Workbook

Sheet RESUMEN
A1: MINISTERIO DE SALUD
A2: SERVICIO DE SALUD COQUIMBO
A3: SUBDIRECCION DE GESTION ASISTENCIAL
A4: SUBDEPTO DE ESTADÍSTICA Y GESTIÓN DE LA INFORMACIÓN
A5: COMUNA | B5: RESUMEN DE CUMPLIMIENTO DE METAS A JULIO 2017
B6: CORTE A JULIO
B8: METAS COMPONENTE ESTRATEGIA RISS, PRODUCCIÓN,COBERTURA EFECTIVA E IMPACTO SANITARIO
B9: META Nº2 | C9: META Nº3.1 | D9: META Nº5 | E9: META Nº6 | F9: META Nº7 | G9: META Nº8.1 | H9: META Nº8.2 | I9: META Nº8.3 | J9: META Nº9 | K9: META Nº10 | L9: META Nº11 | M9: META Nº12 | N9: META Nº13 | O9: META Nº14 | P9: META Nº17 | Q9: META Nº18 | R9: META Nº19 | S9: META Nº20 | T9: META Nº21 | U9: CUMPLIMIENTO GENERAL | V9: CUMPLIMIENTO META GES
B10: Familias Evaluadas según riesgo (*) | C10: Gestion de Reclamos APS | D10: Consultas de Morbilidad y Controles Médicos | E10: SIC derivadas desde la APS al Nivel Secundario | F10: Visita domiciliaria integral | G10: EMP hombres 20 a 64 años | H10: EMP mujeres de 45 a 64 años | I10: EMP 65 y mas años | J10: Evaluación del desarrollo Psicomotor de niños/as de 12 a 23 meses bajo control | K10: Control de salud integral adolescentes de 10 a 14 años | L10: Alta odontologica menores de 20 años | M10: Cobertura de Atención Integral de trastornos mentales en personas de 5 y más años | N10: Cobertura de Atención de Asma en Población general y EPOC en personas de 40 años y más | O10: Capacitación a Cuidadores de personas con Dependencia Severa con Pago de Estipendio (*) | P10: Control embarazada | Q10: Cobertura de Métodos Anticonceptivos en Adolescentes (*) | R10: Cobertura DM2 en personas de 15 y mas años (*) | S10: Cobertutra HTA en personas de 15 y mas años (*) | T10: Proporción de Niñas y Niños de 3 años libre de Caries
A12: LA HIGUERA | B12: =+'META 2'!$C$16 -> 0 | C12: =+'META 3.1'!$C$16 -> 1.0204082 | D12: =+'META 5 '!C16 -> 0.90747782 | E12: =+'META 6'!$C$16 -> 2.0510417 | F12: =+'META 7'!$C$16 -> 0.58307464 | G12: =+'META 8.1'!$C$16 -> 0.30403813 | H12: =+'META 8.2'!$C$16 -> 0.35858359 | I12: =+'META 8.3'!$C$16 -> 0.46354239 | J12: =+'META 9'!$C$16 -> 0.96087852 | K12: =+'META 10'!$C$16 -> 0.47382636 | L12: =+'META 11'!$C$16 -> 7.2623829 | M12: =+'META 12'!$C$16 -> 0.8754872 | N12: =+'META 13'!$C$16 -> 0.52835215 | O12: =+'META 14'!$C$16 -> #DIV/0! | P12: =+'META 17'!$C$16 -> 0.94286676 | Q12: =+'META 18'!$C$16 -> 1.9537428 | R12: =+'META 19'!$C$16 -> 0.66098877 | S12: =+'META 20'!$C$16 -> 0.38972419 | T12: =+'META 21'!$C$16 -> SI | U12: =+'META 3.1'!$C$16 -> 1.0204082 | V12: =+META_GES!C16 -> 1
A13: PAIHUANO | B13: =+'META 2'!$C$21 -> 1.5087727 | C13: =+'META 3.1'!$C$21 -> 1.0204082 | D13: =+'META 5 '!C21 -> 0.96170304 | E13: =+'META 6'!$C$21 -> 0.52882353 | F13: =+'META 7'!$C$21 -> 1.5871246 | G13: =+'META 8.1'!$C$21 -> 0.11591918 | H13: =+'META 8.2'!$C$21 -> 0.36735311 | I13: =+'META 8.3'!$C$21 -> 1.436746 | J13: =+'META 9'!$C$21 -> 1.042119 | K13: =+'META 10'!$C$21 -> 0 | L13: =+'META 11'!$C$21 -> 6.6840278 | M13: =+'META 12'!$C$21 -> 1.1047663 | N13: =+'META 13'!$C$21 -> 0.49197127 | O13: =+'META 14'!$C$21 -> 2.20022 | P13: =+'META 17'!$C$21 -> 0.98061787 | Q13: =+'META 18'!$C$21 -> 1.0415365 | R13: =+'META 19'!$C$21 -> 0.56626474 | S13: =+'META 20'!$C$21 -> 0.96014073 | T13: =+'META 21'!$C$21 -> SI | U13: =+'META 3.1'!$C$21 -> 1.0204082 | V13: =+META_GES!C21 -> 1
A14: (*) Metas a Evaluar con Serie P de Junio 2017
A17: COMUNA | B17: RESUMEN DE CUMPLIMIENTO DE METAS A MARZO 2016
B19: CORTE A MARZO
B20: METAS COMPONENTE ACTIVIDAD GENERAL
B21: META Nº1 | C21: META Nº2 | D21: META Nº3 | E21: META Nº4 | F21: META Nº5 | G21: META Nº6 | H21: META Nº7 | I21: META Nº8 | J21: META Nº9 | K21: META Nº10 | L21: META Nº11 | M21: META Nº12 | N21: META Nº13
B22: EMP hombres 20 a 44 años | C22: EMP mujeres de 45 a 64 años | D22: EMP 65 y mas años | E22: Control embarazada | F22: Alta odontologica menores de 20 años | G22: Gestion de reclamos | H22: Cobertura DM2 en personas de 15 y mas años | I22: Cobertutra HTA en personas de 15 y mas años | J22: Cobertura de Evaluación del desarrollo Psicomotor de niños/as de 12 a 23 meses bajo control | K22: Visita domiciliaria integral | L22: Cobertura de Atención de Asma en Población general y EPOC en personas de 40 años y más | M22: Cobertura de Atención Integral de trastornos mentales en personas de 5 y más años | N22: Cobertura de control de salud integral a adolescentes de 10 a 14 años
A24: LA HIGUERA | B24: =IF(B12="n/a","n/a",IF(B12="","",IF(B12>1,1,B12))) -> 0 | C24: =IF(C12="n/a","n/a",IF(C12="","",IF(C12>1,1,C12))) -> 1 | D24: =IF(D12="n/a","n/a",IF(D12="","",IF(D12>1,1,D12))) -> 0.90747782 | E24: =IF(E12="n/a","n/a",IF(E12="","",IF(E12>1,1,E12))) -> 1 | F24: =IF(F12="n/a","n/a",IF(F12="","",IF(F12>1,1,F12))) -> 0.58307464 | G24: =IF(G12="n/a","n/a",IF(G12="","",IF(G12>1,1,G12))) -> 0.30403813 | H24: =IF(H12="n/a","n/a",IF(H12="","",IF(H12>1,1,H12))) -> 0.35858359 | I24: =IF(I12="n/a","n/a",IF(I12="","",IF(I12>1,1,I12))) -> 0.46354239 | ... N24: =IF(N12="n/a","n/a",IF(N12="","",IF(N12>1,1,N12))) -> 0.52835215
A25: PAIHUANO | B25: =IF(B13="n/a","n/a",IF(B13="","",IF(B13>1,1,B13))) -> 1 | C25: =IF(C13="n/a","n/a",IF(C13="","",IF(C13>1,1,C13))) -> 1 | D25: =IF(D13="n/a","n/a",IF(D13="","",IF(D13>1,1,D13))) -> 0.96170304 | E25: =IF(E13="n/a","n/a",IF(E13="","",IF(E13>1,1,E13))) -> 0.52882353 | F25: =IF(F13="n/a","n/a",IF(F13="","",IF(F13>1,1,F13))) -> 1 | G25: =IF(G13="n/a","n/a",IF(G13="","",IF(G13>1,1,G13))) -> 0.11591918 | H25: =IF(H13="n/a","n/a",IF(H13="","",IF(H13>1,1,H13))) -> 0.36735311 | I25: =IF(I13="n/a","n/a",IF(I13="","",IF(I13>1,1,I13))) -> 1 | ... N25: =IF(N13="n/a","n/a",IF(N13="","",IF(N13>1,1,N13))) -> 0.49197127

Sheet META 2
A1: COMUNA | B1: ESTABLECIMIENTO | C1: CUMPLIMIENTO | D1: Indicador | E1: META 2 : FAMILIAS EVALUADAS SEGÚN RIESGO FAMILIAR
E2: NUMERADOR | G2: DENOMINADOR
E10: Nº de familias evaluadas según riesgo familiar | G10: Total de familias Insciritas (población estimada/3,3)
D11: Resultado | E11: A JUNIO | F11: A DICBRE
A12: 04104-LA HIGUERA | B12: 105314-CES. LA HIGUERA | E12: =IFERROR(VLOOKUP($B12,[1]NUM2!$H$3:$J$140,2,FALSE),0) -> 0
A13: 04104-LA HIGUERA | B13: 105500-P.S.R. CALETA HORNOS | E13: =IFERROR(VLOOKUP($B13,[1]NUM2!$H$3:$J$140,2,FALSE),0) -> 0
A14: 04104-LA HIGUERA | B14: 105505-P.S.R. LOS CHOROS | E14: =IFERROR(VLOOKUP($B14,[1]NUM2!$H$3:$J$140,2,FALSE),0) -> 0
A15: 04104-LA HIGUERA | B15: 105506-P.S.R. EL TRAPICHE | E15: =IFERROR(VLOOKUP($B15,[1]NUM2!$H$3:$J$140,2,FALSE),0) -> 0
A16: TOTAL LA HIGUERA | C16: =+D16/Metas!G45 -> 0 | D16: =+E16/G16 -> 0 | E16: =SUM(E12:E15) -> 0 | F16: =SUM(F12:F15) -> 0 | G16: 1195
A17: 04105-PAIHUANO | B17: 105306-CES. PAIHUANO | E17: =IFERROR(VLOOKUP($B17,[1]NUM2!$H$3:$J$140,2,FALSE),0) -> 23
A18: 04105-PAIHUANO | B18: 105475-P.S.R. HORCON | E18: =IFERROR(VLOOKUP($B18,[1]NUM2!$H$3:$J$140,2,FALSE),0) -> 20
A19: 04105-PAIHUANO | B19: 105476-P.S.R. MONTE GRANDE | E19: =IFERROR(VLOOKUP($B19,[1]NUM2!$H$3:$J$140,2,FALSE),0) -> 20
A20: 04105-PAIHUANO | B20: 105477-P.S.R. PISCO ELQUI | E20: =IFERROR(VLOOKUP($B20,[1]NUM2!$H$3:$J$140,2,FALSE),0) -> 20
A21: TOTAL PAIHUANO | C21: =+D21/Metas!G44 -> 1.5087727 | D21: =+E21/G21 -> 0.058615819 | E21: =SUM(E17:E20) -> 83 | F21: =SUM(F17:F20) -> 0 | G21: 1416
B22: TOTAL

Sheet META 3.1
A1: COMUNA | B1: ESTABLECIMIENTO | C1: CUMPLIMIENTO | D1: Indicador | E1: META 3.1: GESTION DE RECLAMOS EN APS
E2: NUMERADOR | R2: DENOMINADOR
E10: Nº total de reclamos respondidos con solución dentro de los plazos legales establecidos (15 días hábiles) | R10: Nº total de reclamos
D11: Resultado | E11: ENERO | F11: FEBRERO | G11: MARZO | H11: ABRIL | I11: MAYO | J11: JUNIO | K11: JULIO | L11: AGOSTO | M11: SEPBRE | N11: OCTBRE | O11: NOVBRE | P11: DICBRE | Q11: TOTAL | R11: ENERO | S11: FEBRERO | T11: MARZO | U11: ABRIL | V11: MAYO | W11: JUNIO | X11: JULIO | Y11: AGOSTO | Z11: SEPBRE | AA11: OCTBRE | AB11: NOVBRE | AC11: DICBRE | AD11: TOTAL
A12: 04104-LA HIGUERA | B12: 105314-CES. LA HIGUERA | E12: =IFERROR(VLOOKUP($B12,'[1]NUM3.1'!$H$3:$P$104,2,FALSE),0) -> 0 | F12: =IFERROR(VLOOKUP($B12,'[1]NUM3.1'!$H$3:$P$104,3,FALSE),0) -> 0 | G12: =IFERROR(VLOOKUP($B12,'[1]NUM3.1'!$H$3:$P$104,4,FALSE),0) -> 0 | H12: =IFERROR(VLOOKUP($B12,'[1]NUM3.1'!$H$3:$P$104,5,FALSE),0) -> 2 | I12: =IFERROR(VLOOKUP($B12,'[1]NUM3.1'!$H$3:$P$104,6,FALSE),0) -> 0 | J12: =IFERROR(VLOOKUP($B12,'[1]NUM3.1'!$H$3:$P$104,7,FALSE),0) -> 2 | K12: =IFERROR(VLOOKUP($B12,'[1]NUM3.1'!$H$3:$P$104,8,FALSE),0) -> 0 | Q12: =SUM(E12:P12) -> 4 | R12: =IFERROR(VLOOKUP($B12,'[1]DEN3.1'!$H$3:$P$104,2,FALSE),0) -> 0 | S12: =IFERROR(VLOOKUP($B12,'[1]DEN3.1'!$H$3:$P$104,3,FALSE),0) -> 0 | T12: =IFERROR(VLOOKUP($B12,'[1]DEN3.1'!$H$3:$P$104,4,FALSE),0) -> 0 | U12: =IFERROR(VLOOKUP($B12,'[1]DEN3.1'!$H$3:$P$104,5,FALSE),0) -> 2 | V12: =IFERROR(VLOOKUP($B12,'[1]DEN3.1'!$H$3:$P$104,6,FALSE),0) -> 0 | W12: =IFERROR(VLOOKUP($B12,'[1]DEN3.1'!$H$3:$P$104,7,FALSE),0) -> 2 | X12: =IFERROR(VLOOKUP($B12,'[1]DEN3.1'!$H$3:$P$104,8,FALSE),0) -> 0 | AD12: =SUM(R12:AC12) -> 4
A13: 04104-LA HIGUERA | B13: 105500-P.S.R. CALETA HORNOS | E13: =IFERROR(VLOOKUP($B13,'[1]NUM3.1'!$H$3:$P$104,2,FALSE),0) -> 0 | F13: =IFERROR(VLOOKUP($B13,'[1]NUM3.1'!$H$3:$P$104,3,FALSE),0) -> 0 | G13: =IFERROR(VLOOKUP($B13,'[1]NUM3.1'!$H$3:$P$104,4,FALSE),0) -> 0 | H13: =IFERROR(VLOOKUP($B13,'[1]NUM3.1'!$H$3:$P$104,5,FALSE),0) -> 1 | I13: =IFERROR(VLOOKUP($B13,'[1]NUM3.1'!$H$3:$P$104,6,FALSE),0) -> 0 | J13: =IFERROR(VLOOKUP($B13,'[1]NUM3.1'!$H$3:$P$104,7,FALSE),0) -> 0 | K13: =IFERROR(VLOOKUP($B13,'[1]NUM3.1'!$H$3:$P$104,8,FALSE),0) -> 0 | Q13: =SUM(E13:P13) -> 1 | R13: =IFERROR(VLOOKUP($B13,'[1]DEN3.1'!$H$3:$P$104,2,FALSE),0) -> 0 | S13: =IFERROR(VLOOKUP($B13,'[1]DEN3.1'!$H$3:$P$104,3,FALSE),0) -> 0 | T13: =IFERROR(VLOOKUP($B13,'[1]DEN3.1'!$H$3:$P$104,4,FALSE),0) -> 0 | U13: =IFERROR(VLOOKUP($B13,'[1]DEN3.1'!$H$3:$P$104,5,FALSE),0) -> 1 | V13: =IFERROR(VLOOKUP($B13,'[1]DEN3.1'!$H$3:$P$104,6,FALSE),0) -> 0 | W13: =IFERROR(VLOOKUP($B13,'[1]DEN3.1'!$H$3:$P$104,7,FALSE),0) -> 0 | X13: =IFERROR(VLOOKUP($B13,'[1]DEN3.1'!$H$3:$P$104,8,FALSE),0) -> 0 | AD13: =SUM(R13:AC13) -> 1
A14: 04104-LA HIGUERA | B14: 105505-P.S.R. LOS CHOROS | E14: =IFERROR(VLOOKUP($B14,'[1]NUM3.1'!$H$3:$P$104,2,FALSE),0) -> 0 | F14: =IFERROR(VLOOKUP($B14,'[1]NUM3.1'!$H$3:$P$104,3,FALSE),0) -> 0 | G14: =IFERROR(VLOOKUP($B14,'[1]NUM3.1'!$H$3:$P$104,4,FALSE),0) -> 0 | H14: =IFERROR(VLOOKUP($B14,'[1]NUM3.1'!$H$3:$P$104,5,FALSE),0) -> 2 | I14: =IFERROR(VLOOKUP($B14,'[1]NUM3.1'!$H$3:$P$104,6,FALSE),0) -> 0 | J14: =IFERROR(VLOOKUP($B14,'[1]NUM3.1'!$H$3:$P$104,7,FALSE),0) -> 0 | K14: =IFERROR(VLOOKUP($B14,'[1]NUM3.1'!$H$3:$P$104,8,FALSE),0) -> 0 | Q14: =SUM(E14:P14) -> 2 | R14: =IFERROR(VLOOKUP($B14,'[1]DEN3.1'!$H$3:$P$104,2,FALSE),0) -> 0 | S14: =IFERROR(VLOOKUP($B14,'[1]DEN3.1'!$H$3:$P$104,3,FALSE),0) -> 0 | T14: =IFERROR(VLOOKUP($B14,'[1]DEN3.1'!$H$3:$P$104,4,FALSE),0) -> 0 | U14: =IFERROR(VLOOKUP($B14,'[1]DEN3.1'!$H$3:$P$104,5,FALSE),0) -> 2 | V14: =IFERROR(VLOOKUP($B14,'[1]DEN3.1'!$H$3:$P$104,6,FALSE),0) -> 0 | W14: =IFERROR(VLOOKUP($B14,'[1]DEN3.1'!$H$3:$P$104,7,FALSE),0) -> 0 | X14: =IFERROR(VLOOKUP($B14,'[1]DEN3.1'!$H$3:$P$104,8,FALSE),0) -> 0 | AD14: =SUM(R14:AC14) -> 2
A15: 04104-LA HIGUERA | B15: 105506-P.S.R. EL TRAPICHE | E15: =IFERROR(VLOOKUP($B15,'[1]NUM3.1'!$H$3:$P$104,2,FALSE),0) -> 0 | F15: =IFERROR(VLOOKUP($B15,'[1]NUM3.1'!$H$3:$P$104,3,FALSE),0) -> 0 | G15: =IFERROR(VLOOKUP($B15,'[1]NUM3.1'!$H$3:$P$104,4,FALSE),0) -> 0 | H15: =IFERROR(VLOOKUP($B15,'[1]NUM3.1'!$H$3:$P$104,5,FALSE),0) -> 0 | I15: =IFERROR(VLOOKUP($B15,'[1]NUM3.1'!$H$3:$P$104,6,FALSE),0) -> 0 | J15: =IFERROR(VLOOKUP($B15,'[1]NUM3.1'!$H$3:$P$104,7,FALSE),0) -> 0 | K15: =IFERROR(VLOOKUP($B15,'[1]NUM3.1'!$H$3:$P$104,8,FALSE),0) -> 0 | Q15: =SUM(E15:P15) -> 0 | R15: =IFERROR(VLOOKUP($B15,'[1]DEN3.1'!$H$3:$P$104,2,FALSE),0) -> 0 | S15: =IFERROR(VLOOKUP($B15,'[1]DEN3.1'!$H$3:$P$104,3,FALSE),0) -> 0 | T15: =IFERROR(VLOOKUP($B15,'[1]DEN3.1'!$H$3:$P$104,4,FALSE),0) -> 0 | U15: =IFERROR(VLOOKUP($B15,'[1]DEN3.1'!$H$3:$P$104,5,FALSE),0) -> 0 | V15: =IFERROR(VLOOKUP($B15,'[1]DEN3.1'!$H$3:$P$104,6,FALSE),0) -> 0 | W15: =IFERROR(VLOOKUP($B15,'[1]DEN3.1'!$H$3:$P$104,7,FALSE),0) -> 0 | X15: =IFERROR(VLOOKUP($B15,'[1]DEN3.1'!$H$3:$P$104,8,FALSE),0) -> 0 | AD15: =SUM(R15:AC15) -> 0
A16: TOTAL LA HIGUERA | C16: =+D16/Metas!H45 -> 1.0204082 | D16: =+Q16/AD16 -> 1 | E16: =SUM(E12:E15) -> 0 | F16: =SUM(F12:F15) -> 0 | G16: =SUM(G12:G15) -> 0 | H16: =SUM(H12:H15) -> 5 | I16: =SUM(I12:I15) -> 0 | J16: =SUM(J12:J15) -> 2 | K16: =SUM(K12:K15) -> 0 | L16: =SUM(L12:L15) -> 0 | ... AD16: =SUM(AD12:AD15) -> 7
A17: 04105-PAIHUANO | B17: 105306-CES. PAIHUANO | E17: =IFERROR(VLOOKUP($B17,'[1]NUM3.1'!$H$3:$P$104,2,FALSE),0) -> 0 | F17: =IFERROR(VLOOKUP($B17,'[1]NUM3.1'!$H$3:$P$104,3,FALSE),0) -> 0 | G17: =IFERROR(VLOOKUP($B17,'[1]NUM3.1'!$H$3:$P$104,4,FALSE),0) -> 1 | H17: =IFERROR(VLOOKUP($B17,'[1]NUM3.1'!$H$3:$P$104,5,FALSE),0) -> 5 | I17: =IFERROR(VLOOKUP($B17,'[1]NUM3.1'!$H$3:$P$104,6,FALSE),0) -> 1 | J17: =IFERROR(VLOOKUP($B17,'[1]NUM3.1'!$H$3:$P$104,7,FALSE),0) -> 1 | K17: =IFERROR(VLOOKUP($B17,'[1]NUM3.1'!$H$3:$P$104,8,FALSE),0) -> 0 | Q17: =SUM(E17:P17) -> 8 | R17: =IFERROR(VLOOKUP($B17,'[1]DEN3.1'!$H$3:$P$104,2,FALSE),0) -> 0 | S17: =IFERROR(VLOOKUP($B17,'[1]DEN3.1'!$H$3:$P$104,3,FALSE),0) -> 0 | T17: =IFERROR(VLOOKUP($B17,'[1]DEN3.1'!$H$3:$P$104,4,FALSE),0) -> 1 | U17: =IFERROR(VLOOKUP($B17,'[1]DEN3.1'!$H$3:$P$104,5,FALSE),0) -> 5 | V17: =IFERROR(VLOOKUP($B17,'[1]DEN3.1'!$H$3:$P$104,6,FALSE),0) -> 1 | W17: =IFERROR(VLOOKUP($B17,'[1]DEN3.1'!$H$3:$P$104,7,FALSE),0) -> 1 | X17: =IFERROR(VLOOKUP($B17,'[1]DEN3.1'!$H$3:$P$104,8,FALSE),0) -> 0 | AD17: =SUM(R17:AC17) -> 8
A18: 04105-PAIHUANO | B18: 105475-P.S.R. HORCON | E18: =IFERROR(VLOOKUP($B18,'[1]NUM3.1'!$H$3:$P$104,2,FALSE),0) -> 0 | F18: =IFERROR(VLOOKUP($B18,'[1]NUM3.1'!$H$3:$P$104,3,FALSE),0) -> 0 | G18: =IFERROR(VLOOKUP($B18,'[1]NUM3.1'!$H$3:$P$104,4,FALSE),0) -> 0 | H18: =IFERROR(VLOOKUP($B18,'[1]NUM3.1'!$H$3:$P$104,5,FALSE),0) -> 0 | I18: =IFERROR(VLOOKUP($B18,'[1]NUM3.1'!$H$3:$P$104,6,FALSE),0) -> 0 | J18: =IFERROR(VLOOKUP($B18,'[1]NUM3.1'!$H$3:$P$104,7,FALSE),0) -> 0 | K18: =IFERROR(VLOOKUP($B18,'[1]NUM3.1'!$H$3:$P$104,8,FALSE),0) -> 0 | Q18: =SUM(E18:P18) -> 0 | R18: =IFERROR(VLOOKUP($B18,'[1]DEN3.1'!$H$3:$P$104,2,FALSE),0) -> 0 | S18: =IFERROR(VLOOKUP($B18,'[1]DEN3.1'!$H$3:$P$104,3,FALSE),0) -> 0 | T18: =IFERROR(VLOOKUP($B18,'[1]DEN3.1'!$H$3:$P$104,4,FALSE),0) -> 0 | U18: =IFERROR(VLOOKUP($B18,'[1]DEN3.1'!$H$3:$P$104,5,FALSE),0) -> 0 | V18: =IFERROR(VLOOKUP($B18,'[1]DEN3.1'!$H$3:$P$104,6,FALSE),0) -> 0 | W18: =IFERROR(VLOOKUP($B18,'[1]DEN3.1'!$H$3:$P$104,7,FALSE),0) -> 0 | X18: =IFERROR(VLOOKUP($B18,'[1]DEN3.1'!$H$3:$P$104,8,FALSE),0) -> 0 | AD18: =SUM(R18:AC18) -> 0
A19: 04105-PAIHUANO | B19: 105476-P.S.R. MONTE GRANDE | E19: =IFERROR(VLOOKUP($B19,'[1]NUM3.1'!$H$3:$P$104,2,FALSE),0) -> 0 | F19: =IFERROR(VLOOKUP($B19,'[1]NUM3.1'!$H$3:$P$104,3,FALSE),0) -> 0 | G19: =IFERROR(VLOOKUP($B19,'[1]NUM3.1'!$H$3:$P$104,4,FALSE),0) -> 0 | H19: =IFERROR(VLOOKUP($B19,'[1]NUM3.1'!$H$3:$P$104,5,FALSE),0) -> 0 | I19: =IFERROR(VLOOKUP($B19,'[1]NUM3.1'!$H$3:$P$104,6,FALSE),0) -> 0 | J19: =IFERROR(VLOOKUP($B19,'[1]NUM3.1'!$H$3:$P$104,7,FALSE),0) -> 0 | K19: =IFERROR(VLOOKUP($B19,'[1]NUM3.1'!$H$3:$P$104,8,FALSE),0) -> 0 | Q19: =SUM(E19:P19) -> 0 | R19: =IFERROR(VLOOKUP($B19,'[1]DEN3.1'!$H$3:$P$104,2,FALSE),0) -> 0 | S19: =IFERROR(VLOOKUP($B19,'[1]DEN3.1'!$H$3:$P$104,3,FALSE),0) -> 0 | T19: =IFERROR(VLOOKUP($B19,'[1]DEN3.1'!$H$3:$P$104,4,FALSE),0) -> 0 | U19: =IFERROR(VLOOKUP($B19,'[1]DEN3.1'!$H$3:$P$104,5,FALSE),0) -> 0 | V19: =IFERROR(VLOOKUP($B19,'[1]DEN3.1'!$H$3:$P$104,6,FALSE),0) -> 0 | W19: =IFERROR(VLOOKUP($B19,'[1]DEN3.1'!$H$3:$P$104,7,FALSE),0) -> 0 | X19: =IFERROR(VLOOKUP($B19,'[1]DEN3.1'!$H$3:$P$104,8,FALSE),0) -> 0 | AD19: =SUM(R19:AC19) -> 0
A20: 04105-PAIHUANO | B20: 105477-P.S.R. PISCO ELQUI | E20: =IFERROR(VLOOKUP($B20,'[1]NUM3.1'!$H$3:$P$104,2,FALSE),0) -> 0 | F20: =IFERROR(VLOOKUP($B20,'[1]NUM3.1'!$H$3:$P$104,3,FALSE),0) -> 0 | G20: =IFERROR(VLOOKUP($B20,'[1]NUM3.1'!$H$3:$P$104,4,FALSE),0) -> 0 | H20: =IFERROR(VLOOKUP($B20,'[1]NUM3.1'!$H$3:$P$104,5,FALSE),0) -> 0 | I20: =IFERROR(VLOOKUP($B20,'[1]NUM3.1'!$H$3:$P$104,6,FALSE),0) -> 0 | J20: =IFERROR(VLOOKUP($B20,'[1]NUM3.1'!$H$3:$P$104,7,FALSE),0) -> 0 | K20: =IFERROR(VLOOKUP($B20,'[1]NUM3.1'!$H$3:$P$104,8,FALSE),0) -> 0 | Q20: =SUM(E20:P20) -> 0 | R20: =IFERROR(VLOOKUP($B20,'[1]DEN3.1'!$H$3:$P$104,2,FALSE),0) -> 0 | S20: =IFERROR(VLOOKUP($B20,'[1]DEN3.1'!$H$3:$P$104,3,FALSE),0) -> 0 | T20: =IFERROR(VLOOKUP($B20,'[1]DEN3.1'!$H$3:$P$104,4,FALSE),0) -> 0 | U20: =IFERROR(VLOOKUP($B20,'[1]DEN3.1'!$H$3:$P$104,5,FALSE),0) -> 0 | V20: =IFERROR(VLOOKUP($B20,'[1]DEN3.1'!$H$3:$P$104,6,FALSE),0) -> 0 | W20: =IFERROR(VLOOKUP($B20,'[1]DEN3.1'!$H$3:$P$104,7,FALSE),0) -> 0 | X20: =IFERROR(VLOOKUP($B20,'[1]DEN3.1'!$H$3:$P$104,8,FALSE),0) -> 0 | AD20: =SUM(R20:AC20) -> 0
A21: TOTAL PAIHUANO | C21: =+D21/Metas!H44 -> 1.0204082 | D21: =+Q21/AD21 -> 1 | E21: =SUM(E17:E20) -> 0 | F21: =SUM(F17:F20) -> 0 | G21: =SUM(G17:G20) -> 1 | H21: =SUM(H17:H20) -> 5 | I21: =SUM(I17:I20) -> 1 | J21: =SUM(J17:J20) -> 1 | K21: =SUM(K17:K20) -> 0 | L21: =SUM(L17:L20) -> 0 | ... AD21: =SUM(AD17:AD20) -> 8
B22: TOTAL

Sheet META 5 
A1: COMUNA | B1: ESTABLECIMIENTO | C1: CUMPLIMIENTO | D1: Indicador | E1: META 5: TASA DE CONSULTAS DE MORBILIDAD Y CONTROLES MEDICOS POR HABITANTE/AÑO
E2: NUMERADOR | R2: DENOMINADOR
E10: Nº de consultas de morbilidad y controles médicos realizadas | R10: Población Estimada
D11: Resultado | E11: ENERO | F11: FEBRERO | G11: MARZO | H11: ABRIL | I11: MAYO | J11: JUNIO | K11: JULIO | L11: AGOSTO | M11: SEPBRE | N11: OCTBRE | O11: NOVBRE | P11: DICBRE | Q11: TOTAL
A12: 04104-LA HIGUERA | B12: 105314-CES. LA HIGUERA | E12: =VLOOKUP($B12,[1]NUM5!$H$3:$P$177,2,FALSE) -> 211 | F12: =VLOOKUP($B12,[1]NUM5!$H$3:$P$177,3,FALSE) -> 40 | G12: =VLOOKUP($B12,[1]NUM5!$H$3:$P$177,4,FALSE) -> 97 | H12: =VLOOKUP($B12,[1]NUM5!$H$3:$P$177,5,FALSE) -> 115 | I12: =VLOOKUP($B12,[1]NUM5!$H$3:$P$177,6,FALSE) -> 171 | J12: =VLOOKUP($B12,[1]NUM5!$H$3:$P$177,7,FALSE) -> 173 | K12: =VLOOKUP($B12,[1]NUM5!$H$3:$P$177,8,FALSE) -> 235 | Q12: =SUM(E12:P12) -> 1042
A13: 04104-LA HIGUERA | B13: 105500-P.S.R. CALETA HORNOS | E13: =VLOOKUP($B13,[1]NUM5!$H$3:$P$177,2,FALSE) -> 71 | F13: =VLOOKUP($B13,[1]NUM5!$H$3:$P$177,3,FALSE) -> 25 | G13: =VLOOKUP($B13,[1]NUM5!$H$3:$P$177,4,FALSE) -> 65 | H13: =VLOOKUP($B13,[1]NUM5!$H$3:$P$177,5,FALSE) -> 86 | I13: =VLOOKUP($B13,[1]NUM5!$H$3:$P$177,6,FALSE) -> 40 | J13: =VLOOKUP($B13,[1]NUM5!$H$3:$P$177,7,FALSE) -> 75 | K13: =VLOOKUP($B13,[1]NUM5!$H$3:$P$177,8,FALSE) -> 96 | Q13: =SUM(E13:P13) -> 458
A14: 04104-LA HIGUERA | B14: 105505-P.S.R. LOS CHOROS | E14: =VLOOKUP($B14,[1]NUM5!$H$3:$P$177,2,FALSE) -> 42 | F14: =VLOOKUP($B14,[1]NUM5!$H$3:$P$177,3,FALSE) -> 9 | G14: =VLOOKUP($B14,[1]NUM5!$H$3:$P$177,4,FALSE) -> 18 | H14: =VLOOKUP($B14,[1]NUM5!$H$3:$P$177,5,FALSE) -> 12 | I14: =VLOOKUP($B14,[1]NUM5!$H$3:$P$177,6,FALSE) -> 30 | J14: =VLOOKUP($B14,[1]NUM5!$H$3:$P$177,7,FALSE) -> 12 | K14: =VLOOKUP($B14,[1]NUM5!$H$3:$P$177,8,FALSE) -> 46 | Q14: =SUM(E14:P14) -> 169
A15: 04104-LA HIGUERA | B15: 105506-P.S.R. EL TRAPICHE | E15: =VLOOKUP($B15,[1]NUM5!$H$3:$P$177,2,FALSE) -> 68 | F15: =VLOOKUP($B15,[1]NUM5!$H$3:$P$177,3,FALSE) -> 24 | G15: =VLOOKUP($B15,[1]NUM5!$H$3:$P$177,4,FALSE) -> 57 | H15: =VLOOKUP($B15,[1]NUM5!$H$3:$P$177,5,FALSE) -> 20 | I15: =VLOOKUP($B15,[1]NUM5!$H$3:$P$177,6,FALSE) -> 28 | J15: =VLOOKUP($B15,[1]NUM5!$H$3:$P$177,7,FALSE) -> 59 | K15: =VLOOKUP($B15,[1]NUM5!$H$3:$P$177,8,FALSE) -> 44 | Q15: =SUM(E15:P15) -> 300
A16: TOTAL LA HIGUERA | C16: =+D16/Metas!I45 -> 0.90747782 | D16: =+Q16/R16 -> 0.4991128 | E16: =SUM(E12:E15) -> 392 | F16: =SUM(F12:F15) -> 98 | G16: =SUM(G12:G15) -> 237 | H16: =SUM(H12:H15) -> 233 | I16: =SUM(I12:I15) -> 269 | J16: =SUM(J12:J15) -> 319 | K16: =SUM(K12:K15) -> 421 | L16: =SUM(L12:L15) -> 0 | ... Q16: =SUM(Q12:Q15) -> 1969 | R16: 3945
A17: 04105-PAIHUANO | B17: 105306-CES. PAIHUANO | E17: =VLOOKUP($B17,[1]NUM5!$H$3:$P$177,2,FALSE) -> 192 | F17: =VLOOKUP($B17,[1]NUM5!$H$3:$P$177,3,FALSE) -> 264 | G17: =VLOOKUP($B17,[1]NUM5!$H$3:$P$177,4,FALSE) -> 286 | H17: =VLOOKUP($B17,[1]NUM5!$H$3:$P$177,5,FALSE) -> 154 | I17: =VLOOKUP($B17,[1]NUM5!$H$3:$P$177,6,FALSE) -> 234 | J17: =VLOOKUP($B17,[1]NUM5!$H$3:$P$177,7,FALSE) -> 279 | K17: =VLOOKUP($B17,[1]NUM5!$H$3:$P$177,8,FALSE) -> 232 | Q17: =SUM(E17:P17) -> 1641
A18: 04105-PAIHUANO | B18: 105475-P.S.R. HORCON | E18: =VLOOKUP($B18,[1]NUM5!$H$3:$P$177,2,FALSE) -> 42 | F18: =VLOOKUP($B18,[1]NUM5!$H$3:$P$177,3,FALSE) -> 68 | G18: =VLOOKUP($B18,[1]NUM5!$H$3:$P$177,4,FALSE) -> 47 | H18: =VLOOKUP($B18,[1]NUM5!$H$3:$P$177,5,FALSE) -> 56 | I18: =VLOOKUP($B18,[1]NUM5!$H$3:$P$177,6,FALSE) -> 24 | J18: =VLOOKUP($B18,[1]NUM5!$H$3:$P$177,7,FALSE) -> 69 | K18: =VLOOKUP($B18,[1]NUM5!$H$3:$P$177,8,FALSE) -> 49 | Q18: =SUM(E18:P18) -> 355
A19: 04105-PAIHUANO | B19: 105476-P.S.R. MONTE GRANDE | E19: =VLOOKUP($B19,[1]NUM5!$H$3:$P$177,2,FALSE) -> 20 | F19: =VLOOKUP($B19,[1]NUM5!$H$3:$P$177,3,FALSE) -> 32 | G19: =VLOOKUP($B19,[1]NUM5!$H$3:$P$177,4,FALSE) -> 47 | H19: =VLOOKUP($B19,[1]NUM5!$H$3:$P$177,5,FALSE) -> 20 | I19: =VLOOKUP($B19,[1]NUM5!$H$3:$P$177,6,FALSE) -> 18 | J19: =VLOOKUP($B19,[1]NUM5!$H$3:$P$177,7,FALSE) -> 40 | K19: =VLOOKUP($B19,[1]NUM5!$H$3:$P$177,8,FALSE) -> 41 | Q19: =SUM(E19:P19) -> 218
A20: 04105-PAIHUANO | B20: 105477-P.S.R. PISCO ELQUI | E20: =VLOOKUP($B20,[1]NUM5!$H$3:$P$177,2,FALSE) -> 36 | F20: =VLOOKUP($B20,[1]NUM5!$H$3:$P$177,3,FALSE) -> 82 | G20: =VLOOKUP($B20,[1]NUM5!$H$3:$P$177,4,FALSE) -> 96 | H20: =VLOOKUP($B20,[1]NUM5!$H$3:$P$177,5,FALSE) -> 41 | I20: =VLOOKUP($B20,[1]NUM5!$H$3:$P$177,6,FALSE) -> 67 | J20: =VLOOKUP($B20,[1]NUM5!$H$3:$P$177,7,FALSE) -> 82 | K20: =VLOOKUP($B20,[1]NUM5!$H$3:$P$177,8,FALSE) -> 79 | Q20: =SUM(E20:P20) -> 483
A21: TOTAL PAIHUANO | C21: =+D21/Metas!I44 -> 0.96170304 | D21: =+Q21/R21 -> 0.57702182 | E21: =SUM(E17:E20) -> 290 | F21: =SUM(F17:F20) -> 446 | G21: =SUM(G17:G20) -> 476 | H21: =SUM(H17:H20) -> 271 | I21: =SUM(I17:I20) -> 343 | J21: =SUM(J17:J20) -> 470 | K21: =SUM(K17:K20) -> 401 | L21: =SUM(L17:L20) -> 0 | ... Q21: =SUM(Q17:Q20) -> 2697 | R21: 4674
B22: TOTAL

Sheet META 6
A1: COMUNA | B1: ESTABLECIMIENTO | C1: CUMPLIMIENTO | D1: Indicador | E1: META 6: SOLICITUDES DE INTERCONSULTAS A ESPECIALIDAD NIVEL SECUNDARIO DESDE LA APS
E2: NUMERADOR | R2: DENOMINADOR
E10: Nº de SIC a especialidad médica en el nivel secundario | R10: N° Total de Consultas y Controles Médicos en APS
D11: Resultado | E11: ENERO | F11: FEBRERO | G11: MARZO | H11: ABRIL | I11: MAYO | J11: JUNIO | K11: JULIO | L11: AGOSTO | M11: SEPBRE | N11: OCTBRE | O11: NOVBRE | P11: DICBRE | Q11: TOTAL | R11: ENERO | S11: FEBRERO | T11: MARZO | U11: ABRIL | V11: MAYO | W11: JUNIO | X11: JULIO | Y11: AGOSTO | Z11: SEPBRE | AA11: OCTBRE | AB11: NOVBRE | AC11: DICBRE | AD11: TOTAL
A12: 04104-LA HIGUERA | B12: 105314-CES. LA HIGUERA | E12: =IFERROR(VLOOKUP($B12,[1]NUM6!$H$3:$P$155,2,FALSE),0) -> 34 | F12: =IFERROR(VLOOKUP($B12,[1]NUM6!$H$3:$P$155,3,FALSE),0) -> 6 | G12: =IFERROR(VLOOKUP($B12,[1]NUM6!$H$3:$P$155,4,FALSE),0) -> 4 | H12: =IFERROR(VLOOKUP($B12,[1]NUM6!$H$3:$P$155,5,FALSE),0) -> 0 | I12: =IFERROR(VLOOKUP($B12,[1]NUM6!$H$3:$P$155,6,FALSE),0) -> 1 | J12: =IFERROR(VLOOKUP($B12,[1]NUM6!$H$3:$P$155,7,FALSE),0) -> 15 | K12: =IFERROR(VLOOKUP($B12,[1]NUM6!$H$3:$P$155,8,FALSE),0) -> 36 | Q12: =SUM(E12:P12) -> 96 | R12: =VLOOKUP($B12,[1]NUM5!$H$3:$P$177,2,FALSE) -> 211 | S12: =VLOOKUP($B12,[1]NUM5!$H$3:$P$177,3,FALSE) -> 40 | T12: =VLOOKUP($B12,[1]NUM5!$H$3:$P$177,4,FALSE) -> 97 | U12: =VLOOKUP($B12,[1]NUM5!$H$3:$P$177,5,FALSE) -> 115 | V12: =VLOOKUP($B12,[1]NUM5!$H$3:$P$177,6,FALSE) -> 171 | W12: =VLOOKUP($B12,[1]NUM5!$H$3:$P$177,7,FALSE) -> 173 | X12: =VLOOKUP($B12,[1]NUM5!$H$3:$P$177,8,FALSE) -> 235 | AD12: =SUM(R12:AC12) -> 1042
A13: 04104-LA HIGUERA | B13: 105500-P.S.R. CALETA HORNOS | E13: =IFERROR(VLOOKUP($B13,[1]NUM6!$H$3:$P$155,2,FALSE),0) -> 0 | F13: =IFERROR(VLOOKUP($B13,[1]NUM6!$H$3:$P$155,3,FALSE),0) -> 0 | G13: =IFERROR(VLOOKUP($B13,[1]NUM6!$H$3:$P$155,4,FALSE),0) -> 0 | H13: =IFERROR(VLOOKUP($B13,[1]NUM6!$H$3:$P$155,5,FALSE),0) -> 0 | I13: =IFERROR(VLOOKUP($B13,[1]NUM6!$H$3:$P$155,6,FALSE),0) -> 0 | J13: =IFERROR(VLOOKUP($B13,[1]NUM6!$H$3:$P$155,7,FALSE),0) -> 0 | K13: =IFERROR(VLOOKUP($B13,[1]NUM6!$H$3:$P$155,8,FALSE),0) -> 0 | Q13: =SUM(E13:P13) -> 0 | R13: =VLOOKUP($B13,[1]NUM5!$H$3:$P$177,2,FALSE) -> 71 | S13: =VLOOKUP($B13,[1]NUM5!$H$3:$P$177,3,FALSE) -> 25 | T13: =VLOOKUP($B13,[1]NUM5!$H$3:$P$177,4,FALSE) -> 65 | U13: =VLOOKUP($B13,[1]NUM5!$H$3:$P$177,5,FALSE) -> 86 | V13: =VLOOKUP($B13,[1]NUM5!$H$3:$P$177,6,FALSE) -> 40 | W13: =VLOOKUP($B13,[1]NUM5!$H$3:$P$177,7,FALSE) -> 75 | X13: =VLOOKUP($B13,[1]NUM5!$H$3:$P$177,8,FALSE) -> 96 | AD13: =SUM(R13:AC13) -> 458
A14: 04104-LA HIGUERA | B14: 105505-P.S.R. LOS CHOROS | E14: =IFERROR(VLOOKUP($B14,[1]NUM6!$H$3:$P$155,2,FALSE),0) -> 0 | F14: =IFERROR(VLOOKUP($B14,[1]NUM6!$H$3:$P$155,3,FALSE),0) -> 0 | G14: =IFERROR(VLOOKUP($B14,[1]NUM6!$H$3:$P$155,4,FALSE),0) -> 0 | H14: =IFERROR(VLOOKUP($B14,[1]NUM6!$H$3:$P$155,5,FALSE),0) -> 0 | I14: =IFERROR(VLOOKUP($B14,[1]NUM6!$H$3:$P$155,6,FALSE),0) -> 0 | J14: =IFERROR(VLOOKUP($B14,[1]NUM6!$H$3:$P$155,7,FALSE),0) -> 0 | K14: =IFERROR(VLOOKUP($B14,[1]NUM6!$H$3:$P$155,8,FALSE),0) -> 0 | Q14: =SUM(E14:P14) -> 0 | R14: =VLOOKUP($B14,[1]NUM5!$H$3:$P$177,2,FALSE) -> 42 | S14: =VLOOKUP($B14,[1]NUM5!$H$3:$P$177,3,FALSE) -> 9 | T14: =VLOOKUP($B14,[1]NUM5!$H$3:$P$177,4,FALSE) -> 18 | U14: =VLOOKUP($B14,[1]NUM5!$H$3:$P$177,5,FALSE) -> 12 | V14: =VLOOKUP($B14,[1]NUM5!$H$3:$P$177,6,FALSE) -> 30 | W14: =VLOOKUP($B14,[1]NUM5!$H$3:$P$177,7,FALSE) -> 12 | X14: =VLOOKUP($B14,[1]NUM5!$H$3:$P$177,8,FALSE) -> 46 | AD14: =SUM(R14:AC14) -> 169
A15: 04104-LA HIGUERA | B15: 105506-P.S.R. EL TRAPICHE | E15: =IFERROR(VLOOKUP($B15,[1]NUM6!$H$3:$P$155,2,FALSE),0) -> 0 | F15: =IFERROR(VLOOKUP($B15,[1]NUM6!$H$3:$P$155,3,FALSE),0) -> 0 | G15: =IFERROR(VLOOKUP($B15,[1]NUM6!$H$3:$P$155,4,FALSE),0) -> 0 | H15: =IFERROR(VLOOKUP($B15,[1]NUM6!$H$3:$P$155,5,FALSE),0) -> 0 | I15: =IFERROR(VLOOKUP($B15,[1]NUM6!$H$3:$P$155,6,FALSE),0) -> 0 | J15: =IFERROR(VLOOKUP($B15,[1]NUM6!$H$3:$P$155,7,FALSE),0) -> 0 | K15: =IFERROR(VLOOKUP($B15,[1]NUM6!$H$3:$P$155,8,FALSE),0) -> 0 | Q15: =SUM(E15:P15) -> 0 | R15: =VLOOKUP($B15,[1]NUM5!$H$3:$P$177,2,FALSE) -> 68 | S15: =VLOOKUP($B15,[1]NUM5!$H$3:$P$177,3,FALSE) -> 24 | T15: =VLOOKUP($B15,[1]NUM5!$H$3:$P$177,4,FALSE) -> 57 | U15: =VLOOKUP($B15,[1]NUM5!$H$3:$P$177,5,FALSE) -> 20 | V15: =VLOOKUP($B15,[1]NUM5!$H$3:$P$177,6,FALSE) -> 28 | W15: =VLOOKUP($B15,[1]NUM5!$H$3:$P$177,7,FALSE) -> 59 | X15: =VLOOKUP($B15,[1]NUM5!$H$3:$P$177,8,FALSE) -> 44 | AD15: =SUM(R15:AC15) -> 300
A16: TOTAL LA HIGUERA | C16: =Metas!J45/D16 -> 2.0510417 | D16: =+Q16/AD16 -> 0.048755714 | E16: =SUM(E12:E15) -> 34 | F16: =SUM(F12:F15) -> 6 | G16: =SUM(G12:G15) -> 4 | H16: =SUM(H12:H15) -> 0 | I16: =SUM(I12:I15) -> 1 | J16: =SUM(J12:J15) -> 15 | K16: =SUM(K12:K15) -> 36 | L16: =SUM(L12:L15) -> 0 | ... AD16: =SUM(AD12:AD15) -> 1969
A17: 04105-PAIHUANO | B17: 105306-CES. PAIHUANO | E17: =IFERROR(VLOOKUP($B17,[1]NUM6!$H$3:$P$155,2,FALSE),0) -> 74 | F17: =IFERROR(VLOOKUP($B17,[1]NUM6!$H$3:$P$155,3,FALSE),0) -> 75 | G17: =IFERROR(VLOOKUP($B17,[1]NUM6!$H$3:$P$155,4,FALSE),0) -> 107 | H17: =IFERROR(VLOOKUP($B17,[1]NUM6!$H$3:$P$155,5,FALSE),0) -> 43 | I17: =IFERROR(VLOOKUP($B17,[1]NUM6!$H$3:$P$155,6,FALSE),0) -> 59 | J17: =IFERROR(VLOOKUP($B17,[1]NUM6!$H$3:$P$155,7,FALSE),0) -> 92 | K17: =IFERROR(VLOOKUP($B17,[1]NUM6!$H$3:$P$155,8,FALSE),0) -> 60 | Q17: =SUM(E17:P17) -> 510 | R17: =VLOOKUP($B17,[1]NUM5!$H$3:$P$177,2,FALSE) -> 192 | S17: =VLOOKUP($B17,[1]NUM5!$H$3:$P$177,3,FALSE) -> 264 | T17: =VLOOKUP($B17,[1]NUM5!$H$3:$P$177,4,FALSE) -> 286 | U17: =VLOOKUP($B17,[1]NUM5!$H$3:$P$177,5,FALSE) -> 154 | V17: =VLOOKUP($B17,[1]NUM5!$H$3:$P$177,6,FALSE) -> 234 | W17: =VLOOKUP($B17,[1]NUM5!$H$3:$P$177,7,FALSE) -> 279 | X17: =VLOOKUP($B17,[1]NUM5!$H$3:$P$177,8,FALSE) -> 232 | AD17: =SUM(R17:AC17) -> 1641
A18: 04105-PAIHUANO | B18: 105475-P.S.R. HORCON | E18: =IFERROR(VLOOKUP($B18,[1]NUM6!$H$3:$P$155,2,FALSE),0) -> 0 | F18: =IFERROR(VLOOKUP($B18,[1]NUM6!$H$3:$P$155,3,FALSE),0) -> 0 | G18: =IFERROR(VLOOKUP($B18,[1]NUM6!$H$3:$P$155,4,FALSE),0) -> 0 | H18: =IFERROR(VLOOKUP($B18,[1]NUM6!$H$3:$P$155,5,FALSE),0) -> 0 | I18: =IFERROR(VLOOKUP($B18,[1]NUM6!$H$3:$P$155,6,FALSE),0) -> 0 | J18: =IFERROR(VLOOKUP($B18,[1]NUM6!$H$3:$P$155,7,FALSE),0) -> 0 | K18: =IFERROR(VLOOKUP($B18,[1]NUM6!$H$3:$P$155,8,FALSE),0) -> 0 | Q18: =SUM(E18:P18) -> 0 | R18: =VLOOKUP($B18,[1]NUM5!$H$3:$P$177,2,FALSE) -> 42 | S18: =VLOOKUP($B18,[1]NUM5!$H$3:$P$177,3,FALSE) -> 68 | T18: =VLOOKUP($B18,[1]NUM5!$H$3:$P$177,4,FALSE) -> 47 | U18: =VLOOKUP($B18,[1]NUM5!$H$3:$P$177,5,FALSE) -> 56 | V18: =VLOOKUP($B18,[1]NUM5!$H$3:$P$177,6,FALSE) -> 24 | W18: =VLOOKUP($B18,[1]NUM5!$H$3:$P$177,7,FALSE) -> 69 | X18: =VLOOKUP($B18,[1]NUM5!$H$3:$P$177,8,FALSE) -> 49 | AD18: =SUM(R18:AC18) -> 355
A19: 04105-PAIHUANO | B19: 105476-P.S.R. MONTE GRANDE | E19: =IFERROR(VLOOKUP($B19,[1]NUM6!$H$3:$P$155,2,FALSE),0) -> 0 | F19: =IFERROR(VLOOKUP($B19,[1]NUM6!$H$3:$P$155,3,FALSE),0) -> 0 | G19: =IFERROR(VLOOKUP($B19,[1]NUM6!$H$3:$P$155,4,FALSE),0) -> 0 | H19: =IFERROR(VLOOKUP($B19,[1]NUM6!$H$3:$P$155,5,FALSE),0) -> 0 | I19: =IFERROR(VLOOKUP($B19,[1]NUM6!$H$3:$P$155,6,FALSE),0) -> 0 | J19: =IFERROR(VLOOKUP($B19,[1]NUM6!$H$3:$P$155,7,FALSE),0) -> 0 | K19: =IFERROR(VLOOKUP($B19,[1]NUM6!$H$3:$P$155,8,FALSE),0) -> 0 | Q19: =SUM(E19:P19) -> 0 | R19: =VLOOKUP($B19,[1]NUM5!$H$3:$P$177,2,FALSE) -> 20 | S19: =VLOOKUP($B19,[1]NUM5!$H$3:$P$177,3,FALSE) -> 32 | T19: =VLOOKUP($B19,[1]NUM5!$H$3:$P$177,4,FALSE) -> 47 | U19: =VLOOKUP($B19,[1]NUM5!$H$3:$P$177,5,FALSE) -> 20 | V19: =VLOOKUP($B19,[1]NUM5!$H$3:$P$177,6,FALSE) -> 18 | W19: =VLOOKUP($B19,[1]NUM5!$H$3:$P$177,7,FALSE) -> 40 | X19: =VLOOKUP($B19,[1]NUM5!$H$3:$P$177,8,FALSE) -> 41 | AD19: =SUM(R19:AC19) -> 218
A20: 04105-PAIHUANO | B20: 105477-P.S.R. PISCO ELQUI | E20: =IFERROR(VLOOKUP($B20,[1]NUM6!$H$3:$P$155,2,FALSE),0) -> 0 | F20: =IFERROR(VLOOKUP($B20,[1]NUM6!$H$3:$P$155,3,FALSE),0) -> 0 | G20: =IFERROR(VLOOKUP($B20,[1]NUM6!$H$3:$P$155,4,FALSE),0) -> 0 | H20: =IFERROR(VLOOKUP($B20,[1]NUM6!$H$3:$P$155,5,FALSE),0) -> 0 | I20: =IFERROR(VLOOKUP($B20,[1]NUM6!$H$3:$P$155,6,FALSE),0) -> 0 | J20: =IFERROR(VLOOKUP($B20,[1]NUM6!$H$3:$P$155,7,FALSE),0) -> 0 | K20: =IFERROR(VLOOKUP($B20,[1]NUM6!$H$3:$P$155,8,FALSE),0) -> 0 | Q20: =SUM(E20:P20) -> 0 | R20: =VLOOKUP($B20,[1]NUM5!$H$3:$P$177,2,FALSE) -> 36 | S20: =VLOOKUP($B20,[1]NUM5!$H$3:$P$177,3,FALSE) -> 82 | T20: =VLOOKUP($B20,[1]NUM5!$H$3:$P$177,4,FALSE) -> 96 | U20: =VLOOKUP($B20,[1]NUM5!$H$3:$P$177,5,FALSE) -> 41 | V20: =VLOOKUP($B20,[1]NUM5!$H$3:$P$177,6,FALSE) -> 67 | W20: =VLOOKUP($B20,[1]NUM5!$H$3:$P$177,7,FALSE) -> 82 | X20: =VLOOKUP($B20,[1]NUM5!$H$3:$P$177,8,FALSE) -> 79 | AD20: =SUM(R20:AC20) -> 483
A21: TOTAL PAIHUANO | C21: =Metas!J44/D21 -> 0.52882353 | D21: =+Q21/AD21 -> 0.189099 | E21: =SUM(E17:E20) -> 74 | F21: =SUM(F17:F20) -> 75 | G21: =SUM(G17:G20) -> 107 | H21: =SUM(H17:H20) -> 43 | I21: =SUM(I17:I20) -> 59 | J21: =SUM(J17:J20) -> 92 | K21: =SUM(K17:K20) -> 60 | L21: =SUM(L17:L20) -> 0 | ... AD21: =SUM(AD17:AD20) -> 2697
B22: TOTAL

Sheet META 7
A1: COMUNA | B1: ESTABLECIMIENTO | C1: CUMPLIMIENTO | D1: Indicador | E1: META 7: TASA DE VISITA DOMICILIARIA INTEGRAL
E2: NUMERADOR | R2: DENOMINADOR
E10: Nº de visitas domiciliarias integrales realizadas | R10: Nº de familias (población estimada / 3,3)
D11: Resultado | E11: ENERO | F11: FEBRERO | G11: MARZO | H11: ABRIL | I11: MAYO | J11: JUNIO | K11: JULIO | L11: AGOSTO | M11: SEPBRE | N11: OCTBRE | O11: NOVBRE | P11: DICBRE | Q11: TOTAL
A12: 04104-LA HIGUERA | B12: 105314-CES. LA HIGUERA | E12: =IFERROR(VLOOKUP($B12,[1]NUM7!$H$3:$P$164,2,FALSE),0) -> 5 | F12: =IFERROR(VLOOKUP($B12,[1]NUM7!$H$3:$P$164,3,FALSE),0) -> 7 | G12: =IFERROR(VLOOKUP($B12,[1]NUM7!$H$3:$P$164,4,FALSE),0) -> 0 | H12: =IFERROR(VLOOKUP($B12,[1]NUM7!$H$3:$P$164,5,FALSE),0) -> 4 | I12: =IFERROR(VLOOKUP($B12,[1]NUM7!$H$3:$P$164,6,FALSE),0) -> 12 | J12: =IFERROR(VLOOKUP($B12,[1]NUM7!$H$3:$P$164,7,FALSE),0) -> 0 | K12: =IFERROR(VLOOKUP($B12,[1]NUM7!$H$3:$P$164,8,FALSE),0) -> 14 | Q12: =SUM(E12:P12) -> 42
A13: 04104-LA HIGUERA | B13: 105500-P.S.R. CALETA HORNOS | E13: =IFERROR(VLOOKUP($B13,[1]NUM7!$H$3:$P$164,2,FALSE),0) -> 2 | F13: =IFERROR(VLOOKUP($B13,[1]NUM7!$H$3:$P$164,3,FALSE),0) -> 0 | G13: =IFERROR(VLOOKUP($B13,[1]NUM7!$H$3:$P$164,4,FALSE),0) -> 4 | H13: =IFERROR(VLOOKUP($B13,[1]NUM7!$H$3:$P$164,5,FALSE),0) -> 12 | I13: =IFERROR(VLOOKUP($B13,[1]NUM7!$H$3:$P$164,6,FALSE),0) -> 0 | J13: =IFERROR(VLOOKUP($B13,[1]NUM7!$H$3:$P$164,7,FALSE),0) -> 2 | K13: =IFERROR(VLOOKUP($B13,[1]NUM7!$H$3:$P$164,8,FALSE),0) -> 4 | Q13: =SUM(E13:P13) -> 24
A14: 04104-LA HIGUERA | B14: 105505-P.S.R. LOS CHOROS | E14: =IFERROR(VLOOKUP($B14,[1]NUM7!$H$3:$P$164,2,FALSE),0) -> 1 | F14: =IFERROR(VLOOKUP($B14,[1]NUM7!$H$3:$P$164,3,FALSE),0) -> 2 | G14: =IFERROR(VLOOKUP($B14,[1]NUM7!$H$3:$P$164,4,FALSE),0) -> 0 | H14: =IFERROR(VLOOKUP($B14,[1]NUM7!$H$3:$P$164,5,FALSE),0) -> 7 | I14: =IFERROR(VLOOKUP($B14,[1]NUM7!$H$3:$P$164,6,FALSE),0) -> 0 | J14: =IFERROR(VLOOKUP($B14,[1]NUM7!$H$3:$P$164,7,FALSE),0) -> 0 | K14: =IFERROR(VLOOKUP($B14,[1]NUM7!$H$3:$P$164,8,FALSE),0) -> 2 | Q14: =SUM(E14:P14) -> 12
A15: 04104-LA HIGUERA | B15: 105506-P.S.R. EL TRAPICHE | E15: =IFERROR(VLOOKUP($B15,[1]NUM7!$H$3:$P$164,2,FALSE),0) -> 7 | F15: =IFERROR(VLOOKUP($B15,[1]NUM7!$H$3:$P$164,3,FALSE),0) -> 10 | G15: =IFERROR(VLOOKUP($B15,[1]NUM7!$H$3:$P$164,4,FALSE),0) -> 3 | H15: =IFERROR(VLOOKUP($B15,[1]NUM7!$H$3:$P$164,5,FALSE),0) -> 6 | I15: =IFERROR(VLOOKUP($B15,[1]NUM7!$H$3:$P$164,6,FALSE),0) -> 2 | J15: =IFERROR(VLOOKUP($B15,[1]NUM7!$H$3:$P$164,7,FALSE),0) -> 1 | K15: =IFERROR(VLOOKUP($B15,[1]NUM7!$H$3:$P$164,8,FALSE),0) -> 1 | Q15: =SUM(E15:P15) -> 30
A16: TOTAL LA HIGUERA | C16: =+D16/Metas!K45 -> 0.58307464 | D16: =+Q16/R16 -> 0.090376569 | E16: =SUM(E12:E15) -> 15 | F16: =SUM(F12:F15) -> 19 | G16: =SUM(G12:G15) -> 7 | H16: =SUM(H12:H15) -> 29 | I16: =SUM(I12:I15) -> 14 | J16: =SUM(J12:J15) -> 3 | K16: =SUM(K12:K15) -> 21 | L16: =SUM(L12:L15) -> 0 | ... Q16: =SUM(Q12:Q15) -> 108 | R16: 1195
A17: 04105-PAIHUANO | B17: 105306-CES. PAIHUANO | E17: =IFERROR(VLOOKUP($B17,[1]NUM7!$H$3:$P$164,2,FALSE),0) -> 41 | F17: =IFERROR(VLOOKUP($B17,[1]NUM7!$H$3:$P$164,3,FALSE),0) -> 39 | G17: =IFERROR(VLOOKUP($B17,[1]NUM7!$H$3:$P$164,4,FALSE),0) -> 40 | H17: =IFERROR(VLOOKUP($B17,[1]NUM7!$H$3:$P$164,5,FALSE),0) -> 35 | I17: =IFERROR(VLOOKUP($B17,[1]NUM7!$H$3:$P$164,6,FALSE),0) -> 47 | J17: =IFERROR(VLOOKUP($B17,[1]NUM7!$H$3:$P$164,7,FALSE),0) -> 59 | K17: =IFERROR(VLOOKUP($B17,[1]NUM7!$H$3:$P$164,8,FALSE),0) -> 37 | Q17: =SUM(E17:P17) -> 298
A18: 04105-PAIHUANO | B18: 105475-P.S.R. HORCON | E18: =IFERROR(VLOOKUP($B18,[1]NUM7!$H$3:$P$164,2,FALSE),0) -> 4 | F18: =IFERROR(VLOOKUP($B18,[1]NUM7!$H$3:$P$164,3,FALSE),0) -> 6 | G18: =IFERROR(VLOOKUP($B18,[1]NUM7!$H$3:$P$164,4,FALSE),0) -> 10 | H18: =IFERROR(VLOOKUP($B18,[1]NUM7!$H$3:$P$164,5,FALSE),0) -> 4 | I18: =IFERROR(VLOOKUP($B18,[1]NUM7!$H$3:$P$164,6,FALSE),0) -> 3 | J18: =IFERROR(VLOOKUP($B18,[1]NUM7!$H$3:$P$164,7,FALSE),0) -> 1 | K18: =IFERROR(VLOOKUP($B18,[1]NUM7!$H$3:$P$164,8,FALSE),0) -> 3 | Q18: =SUM(E18:P18) -> 31
A19: 04105-PAIHUANO | B19: 105476-P.S.R. MONTE GRANDE | E19: =IFERROR(VLOOKUP($B19,[1]NUM7!$H$3:$P$164,2,FALSE),0) -> 2 | F19: =IFERROR(VLOOKUP($B19,[1]NUM7!$H$3:$P$164,3,FALSE),0) -> 5 | G19: =IFERROR(VLOOKUP($B19,[1]NUM7!$H$3:$P$164,4,FALSE),0) -> 2 | H19: =IFERROR(VLOOKUP($B19,[1]NUM7!$H$3:$P$164,5,FALSE),0) -> 1 | I19: =IFERROR(VLOOKUP($B19,[1]NUM7!$H$3:$P$164,6,FALSE),0) -> 4 | J19: =IFERROR(VLOOKUP($B19,[1]NUM7!$H$3:$P$164,7,FALSE),0) -> 4 | K19: =IFERROR(VLOOKUP($B19,[1]NUM7!$H$3:$P$164,8,FALSE),0) -> 8 | Q19: =SUM(E19:P19) -> 26
A20: 04105-PAIHUANO | B20: 105477-P.S.R. PISCO ELQUI | E20: =IFERROR(VLOOKUP($B20,[1]NUM7!$H$3:$P$164,2,FALSE),0) -> 3 | F20: =IFERROR(VLOOKUP($B20,[1]NUM7!$H$3:$P$164,3,FALSE),0) -> 21 | G20: =IFERROR(VLOOKUP($B20,[1]NUM7!$H$3:$P$164,4,FALSE),0) -> 8 | H20: =IFERROR(VLOOKUP($B20,[1]NUM7!$H$3:$P$164,5,FALSE),0) -> 7 | I20: =IFERROR(VLOOKUP($B20,[1]NUM7!$H$3:$P$164,6,FALSE),0) -> 10 | J20: =IFERROR(VLOOKUP($B20,[1]NUM7!$H$3:$P$164,7,FALSE),0) -> 8 | K20: =IFERROR(VLOOKUP($B20,[1]NUM7!$H$3:$P$164,8,FALSE),0) -> 15 | Q20: =SUM(E20:P20) -> 72
A21: TOTAL PAIHUANO | C21: =+D21/Metas!K44 -> 1.5871246 | D21: =+Q21/R21 -> 0.30155367 | E21: =SUM(E17:E20) -> 50 | F21: =SUM(F17:F20) -> 71 | G21: =SUM(G17:G20) -> 60 | H21: =SUM(H17:H20) -> 47 | I21: =SUM(I17:I20) -> 64 | J21: =SUM(J17:J20) -> 72 | K21: =SUM(K17:K20) -> 63 | L21: =SUM(L17:L20) -> 0 | ... Q21: =SUM(Q17:Q20) -> 427 | R21: 1416
B22: TOTAL

Sheet META 8.1
A1: COMUNA | B1: ESTABLECIMIENTO | C1: CUMPLIMIENTO | D1: Indicador | E1: META 8.1: COBERTURA EXAMEN DE MEDICINA PREVENTIVA (EMP), EN HOMBRES DE 20 A 64 AÑOS
E2: NUMERADOR | R2: DENOMINADOR
E10: Nº Examen de Medicina Preventiva (EMP) realizado en población masculina de 20 a 64 años | R10: Población masculina de 20 a 64 años estimada, menos población bajo control en Programa Salud Cardiovascular | S10: Población masculina de 20 a 64 años bajo control en programa de salud cardiovascular | Y10: Población masculina de 20 a 64 años estimada | Z10: Ingresos de población masculina al PSCV de 20 y 64 años | AM10: Egresos de población masculina al PSCV de 20 y 64 años
D11: Resultado | E11: ENERO | F11: FEBRERO | G11: MARZO | H11: ABRIL | I11: MAYO | J11: JUNIO | K11: JULIO | L11: AGOSTO | M11: SEPBRE | N11: OCTBRE | O11: NOVBRE | P11: DICBRE | Q11: TOTAL | S11: A DIC 2016 | T11: A ABRIL | U11: A JUNIO | V11: A JULIO | W11: A OCTBRE | X11: A DICBRE | Y11: AÑO 2016 | Z11: ENERO | AA11: FEBRERO | AB11: MARZO | AC11: ABRIL | AD11: MAYO | AE11: JUNIO | AF11: JULIO | AG11: AGOSTO | AH11: SEPBRE | AI11: OCTBRE | AJ11: NOVBRE | AK11: DICBRE | AL11: TOTAL | AM11: ENERO | AN11: FEBRERO | AO11: MARZO | AP11: ABRIL | AQ11: MAYO | AR11: JUNIO | AS11: JULIO | AT11: AGOSTO | AU11: SEPBRE | AV11: OCTBRE | AW11: NOVBRE | AX11: DICBRE | AY11: TOTAL
A12: 04104-LA HIGUERA | B12: 105314-CES. LA HIGUERA | E12: =IFERROR(VLOOKUP($B12,'[1]NUM8.1'!$H$3:$P$174,2,FALSE),0) -> 0 | F12: =IFERROR(VLOOKUP($B12,'[1]NUM8.1'!$H$3:$P$174,3,FALSE),0) -> 0 | G12: =IFERROR(VLOOKUP($B12,'[1]NUM8.1'!$H$3:$P$174,4,FALSE),0) -> 0 | H12: =IFERROR(VLOOKUP($B12,'[1]NUM8.1'!$H$3:$P$174,5,FALSE),0) -> 0 | I12: =IFERROR(VLOOKUP($B12,'[1]NUM8.1'!$H$3:$P$174,6,FALSE),0) -> 0 | J12: =IFERROR(VLOOKUP($B12,'[1]NUM8.1'!$H$3:$P$174,7,FALSE),0) -> 0 | K12: =IFERROR(VLOOKUP($B12,'[1]NUM8.1'!$H$3:$P$174,8,FALSE),0) -> 0 | Q12: =SUM(E12:P12) -> 0 | S12: =IFERROR(VLOOKUP($B12,'[2]DEN8.1'!$H$3:$J$159,2,FALSE),0) -> 37 | T12: =+S12+(Z12+AA12+AB12+AC12)-(AM12+AN12+AO12+AP12) -> 37 | U12: =IFERROR(VLOOKUP($B12,'[1]DEN8.2'!$H$3:$J$175,2,FALSE),0) -> 52 | V12: =+U12+(AF12)-(AS12) -> 52 | Z12: =IFERROR(VLOOKUP($B12,'[1]ACT DEN8.1'!$H$3:$P$151,2,FALSE),0) -> 0 | AA12: =IFERROR(VLOOKUP($B12,'[1]ACT DEN8.1'!$H$3:$P$151,3,FALSE),0) -> 0 | AB12: =IFERROR(VLOOKUP($B12,'[1]ACT DEN8.1'!$H$3:$P$151,4,FALSE),0) -> 0 | AC12: =IFERROR(VLOOKUP($B12,'[1]ACT DEN8.1'!$H$3:$P$151,5,FALSE),0) -> 0 | AD12: =IFERROR(VLOOKUP($B12,'[1]ACT DEN8.1'!$H$3:$P$151,6,FALSE),0) -> 1 | AE12: =IFERROR(VLOOKUP($B12,'[1]ACT DEN8.1'!$H$3:$P$151,7,FALSE),0) -> 2 | AF12: =IFERROR(VLOOKUP($B12,'[1]ACT DEN8.1'!$H$3:$P$151,8,FALSE),0) -> 0 | AL12: =SUM(Z12:AK12) -> 3 | AM12: =IFERROR(VLOOKUP($B12,'[1]ACT DEN8.1'!$Z$3:$AH$126,2,FALSE),0) -> 0 | AN12: =IFERROR(VLOOKUP($B12,'[1]ACT DEN8.1'!$Z$3:$AH$126,3,FALSE),0) -> 0 | AO12: =IFERROR(VLOOKUP($B12,'[1]ACT DEN8.1'!$Z$3:$AH$126,4,FALSE),0) -> 0 | AP12: =IFERROR(VLOOKUP($B12,'[1]ACT DEN8.1'!$Z$3:$AH$126,5,FALSE),0) -> 0 | AQ12: =IFERROR(VLOOKUP($B12,'[1]ACT DEN8.1'!$Z$3:$AH$126,6,FALSE),0) -> 0 | AR12: =IFERROR(VLOOKUP($B12,'[1]ACT DEN8.1'!$Z$3:$AH$126,7,FALSE),0) -> 0 | AS12: =IFERROR(VLOOKUP($B12,'[1]ACT DEN8.1'!$Z$3:$AH$126,8,FALSE),0) -> 0 | AY12: =SUM(AM12:AX12) -> 0
A13: 04104-LA HIGUERA | B13: 105500-P.S.R. CALETA HORNOS | E13: =IFERROR(VLOOKUP($B13,'[1]NUM8.1'!$H$3:$P$174,2,FALSE),0) -> 0 | F13: =IFERROR(VLOOKUP($B13,'[1]NUM8.1'!$H$3:$P$174,3,FALSE),0) -> 0 | G13: =IFERROR(VLOOKUP($B13,'[1]NUM8.1'!$H$3:$P$174,4,FALSE),0) -> 0 | H13: =IFERROR(VLOOKUP($B13,'[1]NUM8.1'!$H$3:$P$174,5,FALSE),0) -> 0 | I13: =IFERROR(VLOOKUP($B13,'[1]NUM8.1'!$H$3:$P$174,6,FALSE),0) -> 1 | J13: =IFERROR(VLOOKUP($B13,'[1]NUM8.1'!$H$3:$P$174,7,FALSE),0) -> 13 | K13: =IFERROR(VLOOKUP($B13,'[1]NUM8.1'!$H$3:$P$174,8,FALSE),0) -> 0 | Q13: =SUM(E13:P13) -> 14 | S13: =IFERROR(VLOOKUP($B13,'[2]DEN8.1'!$H$3:$J$159,2,FALSE),0) -> 30 | T13: =+S13+(Z13+AA13+AB13+AC13)-(AM13+AN13+AO13+AP13) -> 30 | U13: =IFERROR(VLOOKUP($B13,'[1]DEN8.2'!$H$3:$J$175,2,FALSE),0) -> 45 | V13: =+U13+(AF13)-(AS13) -> 45 | Z13: =IFERROR(VLOOKUP($B13,'[1]ACT DEN8.1'!$H$3:$P$151,2,FALSE),0) -> 0 | AA13: =IFERROR(VLOOKUP($B13,'[1]ACT DEN8.1'!$H$3:$P$151,3,FALSE),0) -> 0 | AB13: =IFERROR(VLOOKUP($B13,'[1]ACT DEN8.1'!$H$3:$P$151,4,FALSE),0) -> 0 | AC13: =IFERROR(VLOOKUP($B13,'[1]ACT DEN8.1'!$H$3:$P$151,5,FALSE),0) -> 0 | AD13: =IFERROR(VLOOKUP($B13,'[1]ACT DEN8.1'!$H$3:$P$151,6,FALSE),0) -> 1 | AE13: =IFERROR(VLOOKUP($B13,'[1]ACT DEN8.1'!$H$3:$P$151,7,FALSE),0) -> 0 | AF13: =IFERROR(VLOOKUP($B13,'[1]ACT DEN8.1'!$H$3:$P$151,8,FALSE),0) -> 0 | AL13: =SUM(Z13:AK13) -> 1 | AM13: =IFERROR(VLOOKUP($B13,'[1]ACT DEN8.1'!$Z$3:$AH$126,2,FALSE),0) -> 0 | AN13: =IFERROR(VLOOKUP($B13,'[1]ACT DEN8.1'!$Z$3:$AH$126,3,FALSE),0) -> 0 | AO13: =IFERROR(VLOOKUP($B13,'[1]ACT DEN8.1'!$Z$3:$AH$126,4,FALSE),0) -> 0 | AP13: =IFERROR(VLOOKUP($B13,'[1]ACT DEN8.1'!$Z$3:$AH$126,5,FALSE),0) -> 0 | AQ13: =IFERROR(VLOOKUP($B13,'[1]ACT DEN8.1'!$Z$3:$AH$126,6,FALSE),0) -> 0 | AR13: =IFERROR(VLOOKUP($B13,'[1]ACT DEN8.1'!$Z$3:$AH$126,7,FALSE),0) -> 0 | AS13: =IFERROR(VLOOKUP($B13,'[1]ACT DEN8.1'!$Z$3:$AH$126,8,FALSE),0) -> 0 | AY13: =SUM(AM13:AX13) -> 0
A14: 04104-LA HIGUERA | B14: 105505-P.S.R. LOS CHOROS | E14: =IFERROR(VLOOKUP($B14,'[1]NUM8.1'!$H$3:$P$174,2,FALSE),0) -> 0 | F14: =IFERROR(VLOOKUP($B14,'[1]NUM8.1'!$H$3:$P$174,3,FALSE),0) -> 0 | G14: =IFERROR(VLOOKUP($B14,'[1]NUM8.1'!$H$3:$P$174,4,FALSE),0) -> 0 | H14: =IFERROR(VLOOKUP($B14,'[1]NUM8.1'!$H$3:$P$174,5,FALSE),0) -> 0 | I14: =IFERROR(VLOOKUP($B14,'[1]NUM8.1'!$H$3:$P$174,6,FALSE),0) -> 0 | J14: =IFERROR(VLOOKUP($B14,'[1]NUM8.1'!$H$3:$P$174,7,FALSE),0) -> 2 | K14: =IFERROR(VLOOKUP($B14,'[1]NUM8.1'!$H$3:$P$174,8,FALSE),0) -> 0 | Q14: =SUM(E14:P14) -> 2 | S14: =IFERROR(VLOOKUP($B14,'[2]DEN8.1'!$H$3:$J$159,2,FALSE),0) -> 20 | T14: =+S14+(Z14+AA14+AB14+AC14)-(AM14+AN14+AO14+AP14) -> 20 | U14: =IFERROR(VLOOKUP($B14,'[1]DEN8.2'!$H$3:$J$175,2,FALSE),0) -> 28 | V14: =+U14+(AF14)-(AS14) -> 28 | Z14: =IFERROR(VLOOKUP($B14,'[1]ACT DEN8.1'!$H$3:$P$151,2,FALSE),0) -> 0 | AA14: =IFERROR(VLOOKUP($B14,'[1]ACT DEN8.1'!$H$3:$P$151,3,FALSE),0) -> 0 | AB14: =IFERROR(VLOOKUP($B14,'[1]ACT DEN8.1'!$H$3:$P$151,4,FALSE),0) -> 0 | AC14: =IFERROR(VLOOKUP($B14,'[1]ACT DEN8.1'!$H$3:$P$151,5,FALSE),0) -> 0 | AD14: =IFERROR(VLOOKUP($B14,'[1]ACT DEN8.1'!$H$3:$P$151,6,FALSE),0) -> 1 | AE14: =IFERROR(VLOOKUP($B14,'[1]ACT DEN8.1'!$H$3:$P$151,7,FALSE),0) -> 1 | AF14: =IFERROR(VLOOKUP($B14,'[1]ACT DEN8.1'!$H$3:$P$151,8,FALSE),0) -> 0 | AL14: =SUM(Z14:AK14) -> 2 | AM14: =IFERROR(VLOOKUP($B14,'[1]ACT DEN8.1'!$Z$3:$AH$126,2,FALSE),0) -> 0 | AN14: =IFERROR(VLOOKUP($B14,'[1]ACT DEN8.1'!$Z$3:$AH$126,3,FALSE),0) -> 0 | AO14: =IFERROR(VLOOKUP($B14,'[1]ACT DEN8.1'!$Z$3:$AH$126,4,FALSE),0) -> 0 | AP14: =IFERROR(VLOOKUP($B14,'[1]ACT DEN8.1'!$Z$3:$AH$126,5,FALSE),0) -> 0 | AQ14: =IFERROR(VLOOKUP($B14,'[1]ACT DEN8.1'!$Z$3:$AH$126,6,FALSE),0) -> 0 | AR14: =IFERROR(VLOOKUP($B14,'[1]ACT DEN8.1'!$Z$3:$AH$126,7,FALSE),0) -> 0 | AS14: =IFERROR(VLOOKUP($B14,'[1]ACT DEN8.1'!$Z$3:$AH$126,8,FALSE),0) -> 0 | AY14: =SUM(AM14:AX14) -> 0
A15: 04104-LA HIGUERA | B15: 105506-P.S.R. EL TRAPICHE | E15: =IFERROR(VLOOKUP($B15,'[1]NUM8.1'!$H$3:$P$174,2,FALSE),0) -> 0 | F15: =IFERROR(VLOOKUP($B15,'[1]NUM8.1'!$H$3:$P$174,3,FALSE),0) -> 0 | G15: =IFERROR(VLOOKUP($B15,'[1]NUM8.1'!$H$3:$P$174,4,FALSE),0) -> 0 | H15: =IFERROR(VLOOKUP($B15,'[1]NUM8.1'!$H$3:$P$174,5,FALSE),0) -> 0 | I15: =IFERROR(VLOOKUP($B15,'[1]NUM8.1'!$H$3:$P$174,6,FALSE),0) -> 0 | J15: =IFERROR(VLOOKUP($B15,'[1]NUM8.1'!$H$3:$P$174,7,FALSE),0) -> 1 | K15: =IFERROR(VLOOKUP($B15,'[1]NUM8.1'!$H$3:$P$174,8,FALSE),0) -> 1 | Q15: =SUM(E15:P15) -> 2 | S15: =IFERROR(VLOOKUP($B15,'[2]DEN8.1'!$H$3:$J$159,2,FALSE),0) -> 16 | T15: =+S15+(Z15+AA15+AB15+AC15)-(AM15+AN15+AO15+AP15) -> 16 | U15: =IFERROR(VLOOKUP($B15,'[1]DEN8.2'!$H$3:$J$175,2,FALSE),0) -> 7 | V15: =+U15+(AF15)-(AS15) -> 7 | Z15: =IFERROR(VLOOKUP($B15,'[1]ACT DEN8.1'!$H$3:$P$151,2,FALSE),0) -> 0 | AA15: =IFERROR(VLOOKUP($B15,'[1]ACT DEN8.1'!$H$3:$P$151,3,FALSE),0) -> 0 | AB15: =IFERROR(VLOOKUP($B15,'[1]ACT DEN8.1'!$H$3:$P$151,4,FALSE),0) -> 0 | AC15: =IFERROR(VLOOKUP($B15,'[1]ACT DEN8.1'!$H$3:$P$151,5,FALSE),0) -> 0 | AD15: =IFERROR(VLOOKUP($B15,'[1]ACT DEN8.1'!$H$3:$P$151,6,FALSE),0) -> 0 | AE15: =IFERROR(VLOOKUP($B15,'[1]ACT DEN8.1'!$H$3:$P$151,7,FALSE),0) -> 0 | AF15: =IFERROR(VLOOKUP($B15,'[1]ACT DEN8.1'!$H$3:$P$151,8,FALSE),0) -> 0 | AL15: =SUM(Z15:AK15) -> 0 | AM15: =IFERROR(VLOOKUP($B15,'[1]ACT DEN8.1'!$Z$3:$AH$126,2,FALSE),0) -> 0 | AN15: =IFERROR(VLOOKUP($B15,'[1]ACT DEN8.1'!$Z$3:$AH$126,3,FALSE),0) -> 0 | AO15: =IFERROR(VLOOKUP($B15,'[1]ACT DEN8.1'!$Z$3:$AH$126,4,FALSE),0) -> 0 | AP15: =IFERROR(VLOOKUP($B15,'[1]ACT DEN8.1'!$Z$3:$AH$126,5,FALSE),0) -> 0 | AQ15: =IFERROR(VLOOKUP($B15,'[1]ACT DEN8.1'!$Z$3:$AH$126,6,FALSE),0) -> 0 | AR15: =IFERROR(VLOOKUP($B15,'[1]ACT DEN8.1'!$Z$3:$AH$126,7,FALSE),0) -> 1 | AS15: =IFERROR(VLOOKUP($B15,'[1]ACT DEN8.1'!$Z$3:$AH$126,8,FALSE),0) -> 0 | AY15: =SUM(AM15:AX15) -> 1
A16: TOTAL LA HIGUERA | C16: =+D16/Metas!L45 -> 0.30403813 | D16: =+Q16/R16 -> 0.015293118 | E16: =SUM(E12:E15) -> 0 | F16: =SUM(F12:F15) -> 0 | G16: =SUM(G12:G15) -> 0 | H16: =SUM(H12:H15) -> 0 | I16: =SUM(I12:I15) -> 1 | J16: =SUM(J12:J15) -> 16 | K16: =SUM(K12:K15) -> 1 | L16: =SUM(L12:L15) -> 0 | ... Q16: =SUM(Q12:Q15) -> 18 | R16: =+Y16-V16 -> 1177 | S16: =SUM(S12:S15) -> 103 | T16: =SUM(T12:T15) -> 103 | U16: =SUM(U12:U15) -> 132 | V16: =SUM(V12:V15) -> 132 | W16: =SUM(W12:W15) -> 0 | X16: =SUM(X12:X15) -> 0 | Y16: 1309 | Z16: =SUM(Z12:Z15) -> 0 | AA16: =SUM(AA12:AA15) -> 0 | AB16: =SUM(AB12:AB15) -> 0 | AC16: =SUM(AC12:AC15) -> 0 | AD16: =SUM(AD12:AD15) -> 3 | AE16: =SUM(AE12:AE15) -> 3 | AF16: =SUM(AF12:AF15) -> 0 | AG16: =SUM(AG12:AG15) -> 0 | ... AK16: =SUM(AK12:AK15) -> 0 | AL16: =SUM(Z16:AK16) -> 6 | AM16: =SUM(AM12:AM15) -> 0 | AN16: =SUM(AN12:AN15) -> 0 | AO16: =SUM(AO12:AO15) -> 0 | AP16: =SUM(AP12:AP15) -> 0 | AQ16: =SUM(AQ12:AQ15) -> 0 | AR16: =SUM(AR12:AR15) -> 1 | AS16: =SUM(AS12:AS15) -> 0 | AT16: =SUM(AT12:AT15) -> 0 | ... AX16: =SUM(AX12:AX15) -> 0 | AY16: =SUM(AM16:AX16) -> 1
A17: 04105-PAIHUANO | B17: 105306-CES. PAIHUANO | E17: =IFERROR(VLOOKUP($B17,'[1]NUM8.1'!$H$3:$P$174,2,FALSE),0) -> 0 | F17: =IFERROR(VLOOKUP($B17,'[1]NUM8.1'!$H$3:$P$174,3,FALSE),0) -> 0 | G17: =IFERROR(VLOOKUP($B17,'[1]NUM8.1'!$H$3:$P$174,4,FALSE),0) -> 0 | H17: =IFERROR(VLOOKUP($B17,'[1]NUM8.1'!$H$3:$P$174,5,FALSE),0) -> 0 | I17: =IFERROR(VLOOKUP($B17,'[1]NUM8.1'!$H$3:$P$174,6,FALSE),0) -> 4 | J17: =IFERROR(VLOOKUP($B17,'[1]NUM8.1'!$H$3:$P$174,7,FALSE),0) -> 0 | K17: =IFERROR(VLOOKUP($B17,'[1]NUM8.1'!$H$3:$P$174,8,FALSE),0) -> 6 | Q17: =SUM(E17:P17) -> 10 | S17: =IFERROR(VLOOKUP($B17,'[2]DEN8.1'!$H$3:$J$159,2,FALSE),0) -> 63 | T17: =+S17+(Z17+AA17+AB17+AC17)-(AM17+AN17+AO17+AP17) -> 63 | U17: =IFERROR(VLOOKUP($B17,'[1]DEN8.2'!$H$3:$J$175,2,FALSE),0) -> 106 | V17: =+U17+(AF17)-(AS17) -> 108 | Z17: =IFERROR(VLOOKUP($B17,'[1]ACT DEN8.1'!$H$3:$P$151,2,FALSE),0) -> 0 | AA17: =IFERROR(VLOOKUP($B17,'[1]ACT DEN8.1'!$H$3:$P$151,3,FALSE),0) -> 0 | AB17: =IFERROR(VLOOKUP($B17,'[1]ACT DEN8.1'!$H$3:$P$151,4,FALSE),0) -> 0 | AC17: =IFERROR(VLOOKUP($B17,'[1]ACT DEN8.1'!$H$3:$P$151,5,FALSE),0) -> 0 | AD17: =IFERROR(VLOOKUP($B17,'[1]ACT DEN8.1'!$H$3:$P$151,6,FALSE),0) -> 0 | AE17: =IFERROR(VLOOKUP($B17,'[1]ACT DEN8.1'!$H$3:$P$151,7,FALSE),0) -> 0 | AF17: =IFERROR(VLOOKUP($B17,'[1]ACT DEN8.1'!$H$3:$P$151,8,FALSE),0) -> 2 | AL17: =SUM(Z17:AK17) -> 2 | AM17: =IFERROR(VLOOKUP($B17,'[1]ACT DEN8.1'!$Z$3:$AH$126,2,FALSE),0) -> 0 | AN17: =IFERROR(VLOOKUP($B17,'[1]ACT DEN8.1'!$Z$3:$AH$126,3,FALSE),0) -> 0 | AO17: =IFERROR(VLOOKUP($B17,'[1]ACT DEN8.1'!$Z$3:$AH$126,4,FALSE),0) -> 0 | AP17: =IFERROR(VLOOKUP($B17,'[1]ACT DEN8.1'!$Z$3:$AH$126,5,FALSE),0) -> 0 | AQ17: =IFERROR(VLOOKUP($B17,'[1]ACT DEN8.1'!$Z$3:$AH$126,6,FALSE),0) -> 0 | AR17: =IFERROR(VLOOKUP($B17,'[1]ACT DEN8.1'!$Z$3:$AH$126,7,FALSE),0) -> 0 | AS17: =IFERROR(VLOOKUP($B17,'[1]ACT DEN8.1'!$Z$3:$AH$126,8,FALSE),0) -> 0 | AY17: =SUM(AM17:AX17) -> 0
A18: 04105-PAIHUANO | B18: 105475-P.S.R. HORCON | E18: =IFERROR(VLOOKUP($B18,'[1]NUM8.1'!$H$3:$P$174,2,FALSE),0) -> 0 | F18: =IFERROR(VLOOKUP($B18,'[1]NUM8.1'!$H$3:$P$174,3,FALSE),0) -> 0 | G18: =IFERROR(VLOOKUP($B18,'[1]NUM8.1'!$H$3:$P$174,4,FALSE),0) -> 0 | H18: =IFERROR(VLOOKUP($B18,'[1]NUM8.1'!$H$3:$P$174,5,FALSE),0) -> 0 | I18: =IFERROR(VLOOKUP($B18,'[1]NUM8.1'!$H$3:$P$174,6,FALSE),0) -> 0 | J18: =IFERROR(VLOOKUP($B18,'[1]NUM8.1'!$H$3:$P$174,7,FALSE),0) -> 0 | K18: =IFERROR(VLOOKUP($B18,'[1]NUM8.1'!$H$3:$P$174,8,FALSE),0) -> 0 | Q18: =SUM(E18:P18) -> 0 | S18: =IFERROR(VLOOKUP($B18,'[2]DEN8.1'!$H$3:$J$159,2,FALSE),0) -> 23 | T18: =+S18+(Z18+AA18+AB18+AC18)-(AM18+AN18+AO18+AP18) -> 23 | U18: =IFERROR(VLOOKUP($B18,'[1]DEN8.2'!$H$3:$J$175,2,FALSE),0) -> 34 | V18: =+U18+(AF18)-(AS18) -> 34 | Z18: =IFERROR(VLOOKUP($B18,'[1]ACT DEN8.1'!$H$3:$P$151,2,FALSE),0) -> 0 | AA18: =IFERROR(VLOOKUP($B18,'[1]ACT DEN8.1'!$H$3:$P$151,3,FALSE),0) -> 0 | AB18: =IFERROR(VLOOKUP($B18,'[1]ACT DEN8.1'!$H$3:$P$151,4,FALSE),0) -> 0 | AC18: =IFERROR(VLOOKUP($B18,'[1]ACT DEN8.1'!$H$3:$P$151,5,FALSE),0) -> 0 | AD18: =IFERROR(VLOOKUP($B18,'[1]ACT DEN8.1'!$H$3:$P$151,6,FALSE),0) -> 0 | AE18: =IFERROR(VLOOKUP($B18,'[1]ACT DEN8.1'!$H$3:$P$151,7,FALSE),0) -> 0 | AF18: =IFERROR(VLOOKUP($B18,'[1]ACT DEN8.1'!$H$3:$P$151,8,FALSE),0) -> 0 | AL18: =SUM(Z18:AK18) -> 0 | AM18: =IFERROR(VLOOKUP($B18,'[1]ACT DEN8.1'!$Z$3:$AH$126,2,FALSE),0) -> 0 | AN18: =IFERROR(VLOOKUP($B18,'[1]ACT DEN8.1'!$Z$3:$AH$126,3,FALSE),0) -> 0 | AO18: =IFERROR(VLOOKUP($B18,'[1]ACT DEN8.1'!$Z$3:$AH$126,4,FALSE),0) -> 0 | AP18: =IFERROR(VLOOKUP($B18,'[1]ACT DEN8.1'!$Z$3:$AH$126,5,FALSE),0) -> 0 | AQ18: =IFERROR(VLOOKUP($B18,'[1]ACT DEN8.1'!$Z$3:$AH$126,6,FALSE),0) -> 0 | AR18: =IFERROR(VLOOKUP($B18,'[1]ACT DEN8.1'!$Z$3:$AH$126,7,FALSE),0) -> 0 | AS18: =IFERROR(VLOOKUP($B18,'[1]ACT DEN8.1'!$Z$3:$AH$126,8,FALSE),0) -> 0 | AY18: =SUM(AM18:AX18) -> 0
A19: 04105-PAIHUANO | B19: 105476-P.S.R. MONTE GRANDE | E19: =IFERROR(VLOOKUP($B19,'[1]NUM8.1'!$H$3:$P$174,2,FALSE),0) -> 0 | F19: =IFERROR(VLOOKUP($B19,'[1]NUM8.1'!$H$3:$P$174,3,FALSE),0) -> 0 | G19: =IFERROR(VLOOKUP($B19,'[1]NUM8.1'!$H$3:$P$174,4,FALSE),0) -> 0 | H19: =IFERROR(VLOOKUP($B19,'[1]NUM8.1'!$H$3:$P$174,5,FALSE),0) -> 0 | I19: =IFERROR(VLOOKUP($B19,'[1]NUM8.1'!$H$3:$P$174,6,FALSE),0) -> 0 | J19: =IFERROR(VLOOKUP($B19,'[1]NUM8.1'!$H$3:$P$174,7,FALSE),0) -> 0 | K19: =IFERROR(VLOOKUP($B19,'[1]NUM8.1'!$H$3:$P$174,8,FALSE),0) -> 0 | Q19: =SUM(E19:P19) -> 0 | S19: =IFERROR(VLOOKUP($B19,'[2]DEN8.1'!$H$3:$J$159,2,FALSE),0) -> 20 | T19: =+S19+(Z19+AA19+AB19+AC19)-(AM19+AN19+AO19+AP19) -> 20 | U19: =IFERROR(VLOOKUP($B19,'[1]DEN8.2'!$H$3:$J$175,2,FALSE),0) -> 28 | V19: =+U19+(AF19)-(AS19) -> 28 | Z19: =IFERROR(VLOOKUP($B19,'[1]ACT DEN8.1'!$H$3:$P$151,2,FALSE),0) -> 0 | AA19: =IFERROR(VLOOKUP($B19,'[1]ACT DEN8.1'!$H$3:$P$151,3,FALSE),0) -> 0 | AB19: =IFERROR(VLOOKUP($B19,'[1]ACT DEN8.1'!$H$3:$P$151,4,FALSE),0) -> 0 | AC19: =IFERROR(VLOOKUP($B19,'[1]ACT DEN8.1'!$H$3:$P$151,5,FALSE),0) -> 0 | AD19: =IFERROR(VLOOKUP($B19,'[1]ACT DEN8.1'!$H$3:$P$151,6,FALSE),0) -> 0 | AE19: =IFERROR(VLOOKUP($B19,'[1]ACT DEN8.1'!$H$3:$P$151,7,FALSE),0) -> 0 | AF19: =IFERROR(VLOOKUP($B19,'[1]ACT DEN8.1'!$H$3:$P$151,8,FALSE),0) -> 0 | AL19: =SUM(Z19:AK19) -> 0 | AM19: =IFERROR(VLOOKUP($B19,'[1]ACT DEN8.1'!$Z$3:$AH$126,2,FALSE),0) -> 0 | AN19: =IFERROR(VLOOKUP($B19,'[1]ACT DEN8.1'!$Z$3:$AH$126,3,FALSE),0) -> 0 | AO19: =IFERROR(VLOOKUP($B19,'[1]ACT DEN8.1'!$Z$3:$AH$126,4,FALSE),0) -> 0 | AP19: =IFERROR(VLOOKUP($B19,'[1]ACT DEN8.1'!$Z$3:$AH$126,5,FALSE),0) -> 0 | AQ19: =IFERROR(VLOOKUP($B19,'[1]ACT DEN8.1'!$Z$3:$AH$126,6,FALSE),0) -> 0 | AR19: =IFERROR(VLOOKUP($B19,'[1]ACT DEN8.1'!$Z$3:$AH$126,7,FALSE),0) -> 0 | AS19: =IFERROR(VLOOKUP($B19,'[1]ACT DEN8.1'!$Z$3:$AH$126,8,FALSE),0) -> 0 | AY19: =SUM(AM19:AX19) -> 0
A20: 04105-PAIHUANO | B20: 105477-P.S.R. PISCO ELQUI | E20: =IFERROR(VLOOKUP($B20,'[1]NUM8.1'!$H$3:$P$174,2,FALSE),0) -> 0 | F20: =IFERROR(VLOOKUP($B20,'[1]NUM8.1'!$H$3:$P$174,3,FALSE),0) -> 0 | G20: =IFERROR(VLOOKUP($B20,'[1]NUM8.1'!$H$3:$P$174,4,FALSE),0) -> 0 | H20: =IFERROR(VLOOKUP($B20,'[1]NUM8.1'!$H$3:$P$174,5,FALSE),0) -> 0 | I20: =IFERROR(VLOOKUP($B20,'[1]NUM8.1'!$H$3:$P$174,6,FALSE),0) -> 0 | J20: =IFERROR(VLOOKUP($B20,'[1]NUM8.1'!$H$3:$P$174,7,FALSE),0) -> 0 | K20: =IFERROR(VLOOKUP($B20,'[1]NUM8.1'!$H$3:$P$174,8,FALSE),0) -> 0 | Q20: =SUM(E20:P20) -> 0 | S20: =IFERROR(VLOOKUP($B20,'[2]DEN8.1'!$H$3:$J$159,2,FALSE),0) -> 47 | T20: =+S20+(Z20+AA20+AB20+AC20)-(AM20+AN20+AO20+AP20) -> 47 | U20: =IFERROR(VLOOKUP($B20,'[1]DEN8.2'!$H$3:$J$175,2,FALSE),0) -> 43 | V20: =+U20+(AF20)-(AS20) -> 43 | Z20: =IFERROR(VLOOKUP($B20,'[1]ACT DEN8.1'!$H$3:$P$151,2,FALSE),0) -> 0 | AA20: =IFERROR(VLOOKUP($B20,'[1]ACT DEN8.1'!$H$3:$P$151,3,FALSE),0) -> 0 | AB20: =IFERROR(VLOOKUP($B20,'[1]ACT DEN8.1'!$H$3:$P$151,4,FALSE),0) -> 0 | AC20: =IFERROR(VLOOKUP($B20,'[1]ACT DEN8.1'!$H$3:$P$151,5,FALSE),0) -> 0 | AD20: =IFERROR(VLOOKUP($B20,'[1]ACT DEN8.1'!$H$3:$P$151,6,FALSE),0) -> 0 | AE20: =IFERROR(VLOOKUP($B20,'[1]ACT DEN8.1'!$H$3:$P$151,7,FALSE),0) -> 0 | AF20: =IFERROR(VLOOKUP($B20,'[1]ACT DEN8.1'!$H$3:$P$151,8,FALSE),0) -> 0 | AL20: =SUM(Z20:AK20) -> 0 | AM20: =IFERROR(VLOOKUP($B20,'[1]ACT DEN8.1'!$Z$3:$AH$126,2,FALSE),0) -> 0 | AN20: =IFERROR(VLOOKUP($B20,'[1]ACT DEN8.1'!$Z$3:$AH$126,3,FALSE),0) -> 0 | AO20: =IFERROR(VLOOKUP($B20,'[1]ACT DEN8.1'!$Z$3:$AH$126,4,FALSE),0) -> 0 | AP20: =IFERROR(VLOOKUP($B20,'[1]ACT DEN8.1'!$Z$3:$AH$126,5,FALSE),0) -> 0 | AQ20: =IFERROR(VLOOKUP($B20,'[1]ACT DEN8.1'!$Z$3:$AH$126,6,FALSE),0) -> 0 | AR20: =IFERROR(VLOOKUP($B20,'[1]ACT DEN8.1'!$Z$3:$AH$126,7,FALSE),0) -> 0 | AS20: =IFERROR(VLOOKUP($B20,'[1]ACT DEN8.1'!$Z$3:$AH$126,8,FALSE),0) -> 0 | AY20: =SUM(AM20:AX20) -> 0
A21: TOTAL PAIHUANO | C21: =+D21/Metas!L44 -> 0.11591918 | D21: =+Q21/R21 -> 0.0081433225 | E21: =SUM(E17:E20) -> 0 | F21: =SUM(F17:F20) -> 0 | G21: =SUM(G17:G20) -> 0 | H21: =SUM(H17:H20) -> 0 | I21: =SUM(I17:I20) -> 4 | J21: =SUM(J17:J20) -> 0 | K21: =SUM(K17:K20) -> 6 | L21: =SUM(L17:L20) -> 0 | ... Q21: =SUM(Q17:Q20) -> 10 | R21: =+Y21-V21 -> 1228 | S21: =SUM(S17:S20) -> 153 | T21: =SUM(T17:T20) -> 153 | U21: =SUM(U17:U20) -> 211 | V21: =SUM(V17:V20) -> 213 | W21: =SUM(W17:W20) -> 0 | X21: =SUM(X17:X20) -> 0 | Y21: 1441 | Z21: =SUM(Z17:Z20) -> 0 | AA21: =SUM(AA17:AA20) -> 0 | AB21: =SUM(AB17:AB20) -> 0 | AC21: =SUM(AC17:AC20) -> 0 | AD21: =SUM(AD17:AD20) -> 0 | AE21: =SUM(AE17:AE20) -> 0 | AF21: =SUM(AF17:AF20) -> 2 | AG21: =SUM(AG17:AG20) -> 0 | ... AY21: =SUM(AY17:AY20) -> 0
B22: TOTAL | E22: =+E16+E21 -> 0 | F22: =+F16+F21 -> 0 | G22: =+G16+G21 -> 0 | H22: =+H16+H21 -> 0 | I22: =+I16+I21 -> 5 | J22: =+J16+J21 -> 16 | K22: =+K16+K21 -> 7 | L22: =+L16+L21 -> 0 | ... AY22: =+AY16+AY21 -> 1

Sheet META 8.2
A1: COMUNA | B1: ESTABLECIMIENTO | C1: CUMPLIMIENTO | D1: Indicador | E1: META 8.2: COBERTURA EXAMEN DE MEDICINA PREVENTIVA (EMP), EN MUJERES DE 45 A 64 AÑOS
E2: NUMERADOR | R2: DENOMINADOR
E10: Nº Examen de Medicina Preventiva (EMP) realizado en población femenina de 45 a 64 años | R10: Población femenina de 45 a 64 años estimada, menos población bajo control en Programa Salud Cardiovascular | S10: Población femenina de 45 a 64 años bajo control en Programa Salud Cardiovascular | Y10: Población femenina de 45 a 64 años estimada | Z10: Ingresos de población femenina al PSCV de 45 y 65 años | AM10: Egresos de población Femenina al PSCV de 45 a 65 años
D11: Resultado | E11: ENERO | F11: FEBRERO | G11: MARZO | H11: ABRIL | I11: MAYO | J11: JUNIO | K11: JULIO | L11: AGOSTO | M11: SEPBRE | N11: OCTBRE | O11: NOVBRE | P11: DICBRE | Q11: TOTAL | S11: A DIC 2016 | T11: A ABRIL | U11: A JUNIO | V11: A JULIO | W11: A OCTBRE | X11: A DICBRE | Y11: AÑO 2016 | Z11: ENERO | AA11: FEBRERO | AB11: MARZO | AC11: ABRIL | AD11: MAYO | AE11: JUNIO | AF11: JULIO | AG11: AGOSTO | AH11: SEPBRE | AI11: OCTBRE | AJ11: NOVBRE | AK11: DICBRE | AL11: TOTAL | AM11: ENERO | AN11: FEBRERO | AO11: MARZO | AP11: ABRIL | AQ11: MAYO | AR11: JUNIO | AS11: JULIO | AT11: AGOSTO | AU11: SEPBRE | AV11: OCTBRE | AW11: NOVBRE | AX11: DICBRE | AY11: TOTAL
A12: 04104-LA HIGUERA | B12: 105314-CES. LA HIGUERA | E12: =IFERROR(VLOOKUP($B12,'[1]NUM8.2'!$H$3:$P$174,2,FALSE),0) -> 0 | F12: =IFERROR(VLOOKUP($B12,'[1]NUM8.2'!$H$3:$P$174,3,FALSE),0) -> 0 | G12: =IFERROR(VLOOKUP($B12,'[1]NUM8.2'!$H$3:$P$174,4,FALSE),0) -> 0 | H12: =IFERROR(VLOOKUP($B12,'[1]NUM8.2'!$H$3:$P$174,5,FALSE),0) -> 0 | I12: =IFERROR(VLOOKUP($B12,'[1]NUM8.2'!$H$3:$P$174,6,FALSE),0) -> 0 | J12: =IFERROR(VLOOKUP($B12,'[1]NUM8.2'!$H$3:$P$174,7,FALSE),0) -> 0 | K12: =IFERROR(VLOOKUP($B12,'[1]NUM8.2'!$H$3:$P$174,8,FALSE),0) -> 1 | Q12: =SUM(E12:P12) -> 1 | S12: =IFERROR(VLOOKUP($B12,'[2]DEN8.2'!$H$3:$J$159,2,FALSE),0) -> 48 | T12: =+S12+(Z12+AA12+AB12+AC12)-(AM12+AN12+AO12+AP12) -> 48 | U12: =IFERROR(VLOOKUP($B12,'[1]DEN8.2'!$H$3:$J$175,2,FALSE),0) -> 52 | V12: =+U12+(AF12)-(AS12) -> 52 | Z12: =IFERROR(VLOOKUP($B12,'[1]ACT DEN8.2'!$H$3:$P$151,2,FALSE),0) -> 0 | AA12: =IFERROR(VLOOKUP($B12,'[1]ACT DEN8.2'!$H$3:$P$151,3,FALSE),0) -> 0 | AB12: =IFERROR(VLOOKUP($B12,'[1]ACT DEN8.2'!$H$3:$P$151,4,FALSE),0) -> 0 | AC12: =IFERROR(VLOOKUP($B12,'[1]ACT DEN8.2'!$H$3:$P$151,5,FALSE),0) -> 0 | AD12: =IFERROR(VLOOKUP($B12,'[1]ACT DEN8.2'!$H$3:$P$151,6,FALSE),0) -> 1 | AE12: =IFERROR(VLOOKUP($B12,'[1]ACT DEN8.2'!$H$3:$P$151,7,FALSE),0) -> 0 | AF12: =IFERROR(VLOOKUP($B12,'[1]ACT DEN8.2'!$H$3:$P$151,8,FALSE),0) -> 0 | AL12: =SUM(Z12:AK12) -> 1 | AM12: =IFERROR(VLOOKUP($B12,'[1]ACT DEN8.2'!$Z$3:$AH$126,2,FALSE),0) -> 0 | AN12: =IFERROR(VLOOKUP($B12,'[1]ACT DEN8.2'!$Z$3:$AH$126,3,FALSE),0) -> 0 | AO12: =IFERROR(VLOOKUP($B12,'[1]ACT DEN8.2'!$Z$3:$AH$126,4,FALSE),0) -> 0 | AP12: =IFERROR(VLOOKUP($B12,'[1]ACT DEN8.2'!$Z$3:$AH$126,5,FALSE),0) -> 0 | AQ12: =IFERROR(VLOOKUP($B12,'[1]ACT DEN8.2'!$Z$3:$AH$126,6,FALSE),0) -> 0 | AR12: =IFERROR(VLOOKUP($B12,'[1]ACT DEN8.2'!$Z$3:$AH$126,7,FALSE),0) -> 0 | AS12: =IFERROR(VLOOKUP($B12,'[1]ACT DEN8.2'!$Z$3:$AH$126,8,FALSE),0) -> 0 | AY12: =SUM(AM12:AX12) -> 0
